Workbook
Name Anno: Festività!$F$10
Name BoolD: IF(VarD>48,1,0)
Name Festivita: Festività!$L$16:$L$31
Name Pasqua: DATE([0]!Anno,3,1) + (VarD + BoolD + 6 -(MOD(([0]!Anno + INT([0]!Anno/4) + VarD + BoolD + 1),7)))
Name Patrono: Festività!$L$17
Name VarD: MOD(((255-(11*MOD([0]!Anno,19)))-21),30)+21

Sheet Manuale
B7: Manuale dell' Agenda del Personale Mobole
B9: L’agenda funziona con Excel sia su Pc, Mac, Smartphone Android e IPhone.
B10: Si Consiglia di farne una copia una volta scaricato e rinominare il file per l’anno in corso.
B11: Il File è composto da 6 schede:
B12: - Manuale con una semplice spiegazione dell'agenda.
B13: - Festività: Dove iniziare scrivendo l’anno in corso e che permetterà la compilazione automatica del calendario e nel quale si possono vedere le Festività dell’anno selezionato.
B14: - Tipologie di presenze e assenze: sono indicate sigle e descrizioni per la compilazione del diario.
B15: - Presenze: schermata stampabile che permette di avere il riepilogo di tutto l’anno trascorso.Inserire nella casella Modificabile il giorni di ferie Spettanti
B16: - Diario: è il cuore della agenda e la parte da compilare giornalmente. Bisogna inserire per ogni giornata la tipologia di presenza/assenza seguendo i codici dal foglio Tipologie, indicare l’ora reale di inizio e termine giornata. Il Diario calcola le ore giornaliere e quelle mensili realmente effettuate. Nella colonna a fianco indica qual è il limite ore mensili. Bisogna inserire se si effettuato dello straordinario (in minuti). Nella colonna Servizio Indicare i treni e/o il servizio svolto, la colonna per le note si può utilizzare per notazioni di ogni genere inerente alla giornata svolta.
B17: - Ore settimana: è un altro foglio indipendente che permette di inserire l’ora di inizio e termine per 6 giornate lavorative così da calcolare le ore effettuate durante la settimana.
B20: Agenda del personale Mobile

Sheet Festività
B6: Festività Anno in corso
B8: Inserisci nella casella sottostante l'anno:
B10: Anno | F10: 2025
B12: Inserisci nelle caselle sottostanti il giorno e il mese in cui ricorrono le festività. Puoi anche modificare i nomi delle festività. Attenzione: il lunedi di Pasqua è calcolato automaticamente --> NON VA INSERITO!
B14: Tuttavia si può escludere il conteggio del Lunedì di Pasqua, se il proprio calendario non lo prevede, agendo sulla cella sotto la scritta "Visualizza". Impostandola a "No" il giorno non sarà considerato festivo nel Foglio Presenze.
F15: gg | H15: mm
B16: Capodanno | F16: 1 | G16: / | H16: 1 | L16: =IF(F16*H16>0,DATE(Anno,H16,F16),"") -> 45658
B17: Epifania | F17: 6 | G17: / | H17: 1 | L17: =IF(F17*H17>0,DATE(Anno,H17,F17),"") -> 45663
B18: Festa della Liberazione | F18: 25 | G18: / | H18: 4 | L18: =IF(F18*H18>0,DATE(Anno,H18,F18),"") -> 45772
B19: 1° Maggio | F19: 1 | G19: / | H19: 5 | L19: =IF(F19*H19>0,DATE(Anno,H19,F19),"") -> 45778
B20: Festa della Repubblica | F20: 2 | G20: / | H20: 6 | L20: =IF(F20*H20>0,DATE(Anno,H20,F20),"") -> 45810
B21: Ferragosto | F21: 15 | G21: / | H21: 8 | L21: =IF(F21*H21>0,DATE(Anno,H21,F21),"") -> 45884
B22: Tutti i Santi | F22: 1 | G22: / | H22: 11 | L22: =IF(F22*H22>0,DATE(Anno,H22,F22),"") -> 45962
B23: Immacolata | F23: 8 | G23: / | H23: 12 | L23: =IF(F23*H23>0,DATE(Anno,H23,F23),"") -> 45999
B24: Natale | F24: 25 | G24: / | H24: 12 | L24: =IF(F24*H24>0,DATE(Anno,H24,F24),"") -> 46016
B25: Santo Stefano | F25: 26 | G25: / | H25: 12 | L25: =IF(F25*H25>0,DATE(Anno,H25,F25),"") -> 46017
B26: Patrono | F26: 7 | G26: / | H26: 12 | L26: =IF(F26*H26>0,DATE(Anno,H26,F26),"") -> 45998
G27: / | L27: =IF(F27*H27>0,DATE(Anno,H27,F27),"")
G28: / | L28: =IF(F28*H28>0,DATE(Anno,H28,F28),"")
G29: / | L29: =IF(F29*H29>0,DATE(Anno,H29,F29),"")
G30: / | J30: Visualizza? | L30: =IF(F30*H30>0,DATE(Anno,H30,F30),"")
B31: Lunedì di Pasqua | F31: =DAY(L31) -> 21 | G31: / | H31: =MONTH(L31) -> 4 | J31: Si | L31: =IF(J31="Si",Pasqua+1,"") -> 45768
B34: Agenda del personale Mobile
B37: Si
B38: No

Sheet Tipologie
B6: Tipologie di Presenze / Assenze
B8: Inserire nella tabella sottostante la sigla e la descrizione di ogni tipologia lavorativa da calcolare nel Foglio Presenze
B10: Si consiglia di usare sigle composte da non più di 2 caratteri per evitare problemi di visualizzazione nelle celle del Foglio Presenze. Anche la descrizione deve essere breve in modo da poter essere contenuta dalla cella di intestazione della tabella riepilogativa.
B12: Le prime 3 sigle (P, Fp, Fc) non sono modificabili per non alterare le funzionalità di calcolo del foglio per queste voci preimpostate. Ogni sigla è riferita ad una tipologia lavorativa relativa ad un'intera giornata. Non è possibile gestire tipologie di servizio che si articolano su ore.
B17: Sigla | C17: Descrizione
B18: P | C18: Presenza in Servizio
B19: C | C19: Congedo Anno Corrente
B20: CAP | C20: Congedo Anno Precedente
B21: CAP2 | C21: Congedo 2 Anni Precedenti
B22: RIP | C22: Riposo
B23: I | C23: GRS
B24: IL | C24: GRS Lavorato
B25: FL | C25: Festivo Lavorato
B26: RF | C26: Recupero Festivo
B27: F | C27: Festivo
B28: M | C28: Malattia
... B34: Mb | C34: Malattia bambino
B35: Ag | C35: Assenza giustificata | F35: Indicare nel diario la tipologia di assenza: sindacale, paternità,etc
B36: MC | C36: Mezzo congedo anno corrente
B37: MCAP | C37: Mezzo congedo anno precedente
B38: MCAP2 | C38: Mezzo congedo 2 anni precedenti
B39: PL | C39: Permesso L. 104
B41: ATTENZIONE: modificare le sigle in corso d'anno comporta la perdita di tutti i dati riepilogativi registrati. Si consiglia pertanto di aggiornarle solo all'apertura di un nuovo anno con il Foglio Presenze completamente vuoto.
B45: Agenda del personale Mobile

Sheet Presenze
C1: Anno | E1: Matricola | L1: Cognome e nome del dipendente
C2: =Anno -> 2025
E4: Giorni Ferie Anno Prec | M4: Giorni Ferie Anno Corrente
E5: Riporto | I5: Residuo | M5: Giorni Ferie | Q5: Residuo | U5: Fest Sopp (FS) | X5: Residuo (FS) | AA5: Permessi (PM) | AD5: Residuo (PM) | AW5: CONGEDI DELL'ANNO
I6: =E6-F38 -> 0 | M6: 25 | Q6: =M6-H38 -> 25 | U6: 4 | X6: =U6-AD38 -> 4 | AA6: 3 | AD6: =AA6-AB38 -> 3
D8: 1 | E8: 2 | F8: 3 | G8: 4 | H8: 5 | I8: 6 | J8: 7 | K8: 8 | L8: 9 | M8: 10 | N8: 11 | O8: 12 | P8: 13 | Q8: 14 | R8: 15 | S8: 16 | T8: 17 | U8: 18 | V8: 19 | W8: 20 | X8: 21 | Y8: 22 | Z8: 23 | AA8: 24 | AB8: 25 | AC8: 26 | AD8: 27 | AE8: 28 | AF8: 29 | AG8: 30 | AH8: 31 | AY8: Congedo | BA8: Cong Rossi | BC8: Fest Sopp | BE8: Permessi | BG8: Congedi Totali
A9: 1 | B9: 1 | C9: Gennaio | D9: =Diario!E4 -> 0 | E9: =Diario!E5 -> 0 | F9: =Diario!E6 -> 0 | G9: =Diario!E7 -> 0 | H9: =Diario!E8 -> 0 | I9: =Diario!E9 -> 0 | J9: =Diario!E10 -> 0 | K9: =Diario!E11 -> 0 | L9: =Diario!E12 -> 0 | M9: =Diario!E13 -> 0 | N9: =Diario!E14 -> 0 | O9: =Diario!E15 -> 0 | P9: =Diario!E16 -> 0 | Q9: =Diario!E17 -> 0 | R9: =Diario!E18 -> 0 | S9: =Diario!E19 -> 0 | T9: =Diario!E20 -> 0 | U9: =Diario!E21 -> 0 | V9: =Diario!E22 -> 0 | W9: =Diario!E23 -> 0 | X9: =Diario!E24 -> 0 | Y9: =Diario!E25 -> 0 | Z9: =Diario!E26 -> 0 | AA9: =Diario!E27 -> 0 | AB9: =Diario!E28 -> 0 | AC9: =Diario!E29 -> 0 | AD9: =Diario!E30 -> 0 | AE9: =Diario!E31 -> 0 | AF9: =Diario!E32 -> 0 | AG9: =Diario!E33 -> 0 | AH9: =Diario!E34 -> 0 | AW9: GEN | AY9: =COUNTIF(D9:AH9,"C") -> 0 | BA9: =COUNTIF(D9:AH9,"CR") -> 0 | BC9: =COUNTIF(D9:AH9,"FS") -> 0 | BE9: =COUNTIF(D9:AH9,"PM") -> 0 | BG9: =AY9+BA9 -> 0
A10: 2 | B10: 2 | C10: Febbraio | D10: =Diario!E39 -> 0 | E10: =Diario!E40 -> 0 | F10: =Diario!E41 -> 0 | G10: =Diario!E42 -> 0 | H10: =Diario!E43 -> 0 | I10: =Diario!E44 -> 0 | J10: =Diario!E45 -> 0 | K10: =Diario!E46 -> 0 | L10: =Diario!E47 -> 0 | M10: =Diario!E48 -> 0 | N10: =Diario!E49 -> 0 | O10: =Diario!E50 -> 0 | P10: =Diario!E51 -> 0 | Q10: =Diario!E52 -> 0 | R10: =Diario!E53 -> 0 | S10: =Diario!E54 -> 0 | T10: =Diario!E55 -> 0 | U10: =Diario!E56 -> 0 | V10: =Diario!E57 -> 0 | W10: =Diario!E58 -> 0 | X10: =Diario!E59 -> 0 | Y10: =Diario!E60 -> 0 | Z10: =Diario!E61 -> 0 | AA10: =Diario!E62 -> 0 | AB10: =Diario!E63 -> 0 | AC10: =Diario!E64 -> 0 | AD10: =Diario!E65 -> 0 | AE10: =Diario!E66 -> 0 | AF10: =Diario!E67 -> 0 | AW10: FEB | AY10: =COUNTIF(D10:AH10,"C") -> 0 | BA10: =COUNTIF(D10:AH10,"CR") -> 0 | BC10: =COUNTIF(D10:AH10,"FS") -> 0 | BE10: =COUNTIF(D10:AH10,"PM") -> 0 | BG10: =AY10+BA10 -> 0
A11: 3 | B11: 3 | C11: Marzo | D11: =Diario!E74 -> 0 | E11: =Diario!E75 -> 0 | F11: =Diario!E76 -> 0 | G11: =Diario!E77 -> 0 | H11: =Diario!E78 -> 0 | I11: =Diario!E79 -> 0 | J11: =Diario!E80 -> 0 | K11: =Diario!E81 -> 0 | L11: =Diario!E82 -> 0 | M11: =Diario!E83 -> 0 | N11: =Diario!E84 -> 0 | O11: =Diario!E85 -> 0 | P11: =Diario!E86 -> 0 | Q11: =Diario!E87 -> 0 | R11: =Diario!E88 -> 0 | S11: =Diario!E89 -> 0 | T11: =Diario!E90 -> 0 | U11: =Diario!E91 -> 0 | V11: =Diario!E92 -> 0 | W11: =Diario!E93 -> 0 | X11: =Diario!E94 -> 0 | Y11: =Diario!E95 -> 0 | Z11: =Diario!E96 -> 0 | AA11: =Diario!E97 -> 0 | AB11: =Diario!E98 -> 0 | AC11: =Diario!E99 -> 0 | AD11: =Diario!E100 -> 0 | AE11: =Diario!E101 -> 0 | AF11: =Diario!E102 -> 0 | AG11: =Diario!E103 -> 0 | AH11: =Diario!E104 -> 0 | AW11: MAR | AY11: =COUNTIF(D11:AH11,"C") -> 0 | BA11: =COUNTIF(D11:AH11,"CR") -> 0 | BC11: =COUNTIF(D11:AH11,"FS") -> 0 | BE11: =COUNTIF(D11:AH11,"PM") -> 0 | BG11: =AY11+BA11 -> 0
A12: 4 | B12: 4 | C12: Aprile | D12: =Diario!E109 -> 0 | E12: =Diario!E110 -> 0 | F12: =Diario!E111 -> 0 | G12: =Diario!E112 -> 0 | H12: =Diario!E113 -> 0 | I12: =Diario!E114 -> 0 | J12: =Diario!E115 -> 0 | K12: =Diario!E116 -> 0 | L12: =Diario!E117 -> 0 | M12: =Diario!E118 -> 0 | N12: =Diario!E119 -> 0 | O12: =Diario!E120 -> 0 | P12: =Diario!E121 -> 0 | Q12: =Diario!E122 -> 0 | R12: =Diario!E123 -> 0 | S12: =Diario!E124 -> 0 | T12: =Diario!E125 -> 0 | U12: =Diario!E126 -> 0 | V12: =Diario!E127 -> 0 | W12: =Diario!E128 -> 0 | X12: =Diario!E129 -> 0 | Y12: =Diario!E130 -> 0 | Z12: =Diario!E131 -> 0 | AA12: =Diario!E132 -> 0 | AB12: =Diario!E133 -> 0 | AC12: =Diario!E134 -> 0 | AD12: =Diario!E135 -> 0 | AE12: =Diario!E136 -> 0 | AF12: =Diario!E137 -> 0 | AG12: =Diario!E138 -> 0 | AW12: APR | AY12: =COUNTIF(D12:AH12,"C") -> 0 | BA12: =COUNTIF(D12:AH12,"CR") -> 0 | BC12: =COUNTIF(D12:AH12,"FS") -> 0 | BE12: =COUNTIF(D12:AH12,"PM") -> 0 | BG12: =AY12+BA12 -> 0
A13: 5 | B13: 5 | C13: Maggio | D13: =Diario!E144 -> 0 | E13: =Diario!E145 -> 0 | F13: =Diario!E146 -> 0 | G13: =Diario!E147 -> 0 | H13: =Diario!E148 -> 0 | I13: =Diario!E149 -> 0 | J13: =Diario!E150 -> 0 | K13: =Diario!E151 -> 0 | L13: =Diario!E152 -> 0 | M13: =Diario!E153 -> 0 | N13: =Diario!E154 -> 0 | O13: =Diario!E155 -> 0 | P13: =Diario!E156 -> 0 | Q13: =Diario!E157 -> 0 | R13: =Diario!E158 -> 0 | S13: =Diario!E159 -> 0 | T13: =Diario!E160 -> 0 | U13: =Diario!E161 -> 0 | V13: =Diario!E162 -> 0 | W13: =Diario!E163 -> 0 | X13: =Diario!E164 -> 0 | Y13: =Diario!E165 -> 0 | Z13: =Diario!E166 -> 0 | AA13: =Diario!E167 -> 0 | AB13: =Diario!E168 -> 0 | AC13: =Diario!E169 -> 0 | AD13: =Diario!E170 -> 0 | AE13: =Diario!E171 -> 0 | AF13: =Diario!E172 -> 0 | AG13: =Diario!E173 -> 0 | AH13: =Diario!E174 -> 0 | AW13: MAG | AY13: =COUNTIF(D13:AH13,"C") -> 0 | BA13: =COUNTIF(D13:AH13,"CR") -> 0 | BC13: =COUNTIF(D13:AH13,"FS") -> 0 | BE13: =COUNTIF(D13:AH13,"PM") -> 0 | BG13: =AY13+BA13 -> 0
A14: 6 | B14: 6 | C14: Giugno | D14: =Diario!E179 -> 0 | E14: =Diario!E180 -> 0 | F14: =Diario!E181 -> 0 | G14: =Diario!E182 -> 0 | H14: =Diario!E183 -> 0 | I14: =Diario!E184 -> 0 | J14: =Diario!E185 -> 0 | K14: =Diario!E186 -> 0 | L14: =Diario!E187 -> 0 | M14: =Diario!E188 -> 0 | N14: =Diario!E189 -> 0 | O14: =Diario!E190 -> 0 | P14: =Diario!E191 -> 0 | Q14: =Diario!E192 -> 0 | R14: =Diario!E193 -> 0 | S14: =Diario!E194 -> 0 | T14: =Diario!E195 -> 0 | U14: =Diario!E196 -> 0 | V14: =Diario!E197 -> 0 | W14: =Diario!E198 -> 0 | X14: =Diario!E199 -> 0 | Y14: =Diario!E200 -> 0 | Z14: =Diario!E201 -> 0 | AA14: =Diario!E202 -> 0 | AB14: =Diario!E203 -> 0 | AC14: =Diario!E204 -> 0 | AD14: =Diario!E205 -> 0 | AE14: =Diario!E206 -> 0 | AF14: =Diario!E207 -> 0 | AG14: =Diario!E208 -> 0 | AW14: GIU | AY14: =COUNTIF(D14:AH14,"C") -> 0 | BA14: =COUNTIF(D14:AH14,"CR") -> 0 | BC14: =COUNTIF(D14:AH14,"FS") -> 0 | BE14: =COUNTIF(D14:AH14,"PM") -> 0 | BG14: =AY14+BA14 -> 0
A15: 7 | B15: 7 | C15: Luglio | D15: =Diario!R4 -> 0 | E15: =Diario!R5 -> 0 | F15: =Diario!R6 -> 0 | G15: =Diario!R7 -> 0 | H15: =Diario!R8 -> 0 | I15: =Diario!R9 -> 0 | J15: =Diario!R10 -> 0 | K15: =Diario!R11 -> 0 | L15: =Diario!R12 -> 0 | M15: =Diario!R13 -> 0 | N15: =Diario!R14 -> 0 | O15: =Diario!R15 -> 0 | P15: =Diario!R16 -> 0 | Q15: =Diario!R17 -> 0 | R15: =Diario!R18 -> 0 | S15: =Diario!R19 -> 0 | T15: =Diario!R20 -> 0 | U15: =Diario!R21 -> 0 | V15: =Diario!R22 -> 0 | W15: =Diario!R23 -> 0 | X15: =Diario!R24 -> 0 | Y15: =Diario!R25 -> 0 | Z15: =Diario!R26 -> 0 | AA15: =Diario!R27 -> 0 | AB15: =Diario!R28 -> 0 | AC15: =Diario!R29 -> 0 | AD15: =Diario!R30 -> 0 | AE15: =Diario!R31 -> 0 | AF15: =Diario!R32 -> 0 | AG15: =Diario!R33 -> 0 | AH15: =Diario!R34 -> 0 | AW15: LUG | AY15: =COUNTIF(D15:AH15,"C") -> 0 | BA15: =COUNTIF(D15:AH15,"CR") -> 0 | BC15: =COUNTIF(D15:AH15,"FS") -> 0 | BE15: =COUNTIF(D15:AH15,"PM") -> 0 | BG15: =AY15+BA15 -> 0
A16: 8 | B16: 8 | C16: Agosto | D16: =Diario!R39 -> 0 | E16: =Diario!R40 -> 0 | F16: =Diario!R41 -> 0 | G16: =Diario!R42 -> 0 | H16: =Diario!R43 -> 0 | I16: =Diario!R44 -> 0 | J16: =Diario!R45 -> 0 | K16: =Diario!R46 -> 0 | L16: =Diario!R47 -> 0 | M16: =Diario!R48 -> 0 | N16: =Diario!R49 -> 0 | O16: =Diario!R50 -> 0 | P16: =Diario!R51 -> 0 | Q16: =Diario!R52 -> 0 | R16: =Diario!R53 -> 0 | S16: =Diario!R54 -> 0 | T16: =Diario!R55 -> 0 | U16: =Diario!R56 -> 0 | V16: =Diario!R57 -> 0 | W16: =Diario!R58 -> 0 | X16: =Diario!R59 -> 0 | Y16: =Diario!R60 -> 0 | Z16: =Diario!R61 -> 0 | AA16: =Diario!R62 -> 0 | AB16: =Diario!R63 -> 0 | AC16: =Diario!R64 -> 0 | AD16: =Diario!R65 -> 0 | AE16: =Diario!R66 -> 0 | AF16: =Diario!R67 -> 0 | AG16: =Diario!R68 -> 0 | AH16: =Diario!R69 -> 0 | AW16: AGO | AY16: =COUNTIF(D16:AH16,"C") -> 0 | BA16: =COUNTIF(D16:AH16,"CR") -> 0 | BC16: =COUNTIF(D16:AH16,"FS") -> 0 | BE16: =COUNTIF(D16:AH16,"PM") -> 0 | BG16: =AY16+BA16 -> 0
A17: 9 | B17: 9 | C17: Settembre | D17: =Diario!R74 -> 0 | E17: =Diario!R75 -> 0 | F17: =Diario!R76 -> 0 | G17: =Diario!R77 -> 0 | H17: =Diario!R78 -> 0 | I17: =Diario!R79 -> 0 | J17: =Diario!R80 -> 0 | K17: =Diario!R81 -> 0 | L17: =Diario!R82 -> 0 | M17: =Diario!R83 -> 0 | N17: =Diario!R84 -> 0 | O17: =Diario!R85 -> 0 | P17: =Diario!R86 -> 0 | Q17: =Diario!R87 -> 0 | R17: =Diario!R88 -> 0 | S17: =Diario!R89 -> 0 | T17: =Diario!R90 -> 0 | U17: =Diario!R91 -> 0 | V17: =Diario!R92 -> 0 | W17: =Diario!R93 -> 0 | X17: =Diario!R94 -> 0 | Y17: =Diario!R95 -> 0 | Z17: =Diario!R96 -> 0 | AA17: =Diario!R97 -> 0 | AB17: =Diario!R98 -> 0 | AC17: =Diario!R99 -> 0 | AD17: =Diario!R100 -> 0 | AE17: =Diario!R101 -> 0 | AF17: =Diario!R102 -> 0 | AG17: =Diario!R103 -> 0 | AW17: SET | AY17: =COUNTIF(D17:AH17,"C") -> 0 | BA17: =COUNTIF(D17:AH17,"CR") -> 0 | BC17: =COUNTIF(D17:AH17,"FS") -> 0 | BE17: =COUNTIF(D17:AH17,"PM") -> 0 | BG17: =AY17+BA17 -> 0
A18: 10 | B18: 10 | C18: Ottobre | D18: =Diario!R109 -> 0 | E18: =Diario!R110 -> 0 | F18: =Diario!R111 -> 0 | G18: =Diario!R112 -> 0 | H18: =Diario!R113 -> 0 | I18: =Diario!R114 -> 0 | J18: =Diario!R115 -> 0 | K18: =Diario!R116 -> 0 | L18: =Diario!R117 -> 0 | M18: =Diario!R118 -> 0 | N18: =Diario!R119 -> 0 | O18: =Diario!R120 -> 0 | P18: =Diario!R121 -> 0 | Q18: =Diario!R122 -> 0 | R18: =Diario!R123 -> 0 | S18: =Diario!R124 -> 0 | T18: =Diario!R125 -> 0 | U18: =Diario!R126 -> 0 | V18: =Diario!R127 -> 0 | W18: =Diario!R128 -> 0 | X18: =Diario!R129 -> 0 | Y18: =Diario!R130 -> 0 | Z18: =Diario!R131 -> 0 | AA18: =Diario!R132 -> 0 | AB18: =Diario!R133 -> 0 | AC18: =Diario!R134 -> 0 | AD18: =Diario!R135 -> 0 | AE18: =Diario!R136 -> 0 | AF18: =Diario!R137 -> 0 | AG18: =Diario!R138 -> 0 | AH18: =Diario!R139 -> 0 | AW18: OTT | AY18: =COUNTIF(D18:AH18,"C") -> 0 | BA18: =COUNTIF(D18:AH18,"CR") -> 0 | BC18: =COUNTIF(D18:AH18,"FS") -> 0 | BE18: =COUNTIF(D18:AH18,"PM") -> 0 | BG18: =AY18+BA18 -> 0
A19: 11 | B19: 11 | C19: Novembre | D19: =Diario!R144 -> 0 | E19: =Diario!R145 -> 0 | F19: =Diario!R146 -> 0 | G19: =Diario!R147 -> 0 | H19: =Diario!R148 -> 0 | I19: =Diario!R149 -> 0 | J19: =Diario!R150 -> 0 | K19: =Diario!R151 -> 0 | L19: =Diario!R152 -> 0 | M19: =Diario!R153 -> 0 | N19: =Diario!R154 -> 0 | O19: =Diario!R155 -> 0 | P19: =Diario!R156 -> 0 | Q19: =Diario!R157 -> 0 | R19: =Diario!R158 -> 0 | S19: =Diario!R159 -> 0 | T19: =Diario!R160 -> 0 | U19: =Diario!R161 -> 0 | V19: =Diario!R162 -> 0 | W19: =Diario!R163 -> 0 | X19: =Diario!R164 -> 0 | Y19: =Diario!R165 -> 0 | Z19: =Diario!R166 -> 0 | AA19: =Diario!R167 -> 0 | AB19: =Diario!R168 -> 0 | AC19: =Diario!R169 -> 0 | AD19: =Diario!R170 -> 0 | AE19: =Diario!R171 -> 0 | AF19: =Diario!R172 -> 0 | AG19: =Diario!R173 -> 0 | AW19: NOV | AY19: =COUNTIF(D19:AH19,"C") -> 0 | BA19: =COUNTIF(D19:AH19,"CR") -> 0 | BC19: =COUNTIF(D19:AH19,"FS") -> 0 | BE19: =COUNTIF(D19:AH19,"PM") -> 0 | BG19: =AY19+BA19 -> 0 | BI19: TOTALI ANNO
A20: 12 | B20: 12 | C20: Dicembre | D20: =Diario!R179 -> 0 | E20: =Diario!R180 -> 0 | F20: =Diario!R181 -> 0 | G20: =Diario!R182 -> 0 | H20: =Diario!R183 -> 0 | I20: =Diario!R184 -> 0 | J20: =Diario!R185 -> 0 | K20: =Diario!R186 -> 0 | L20: =Diario!R187 -> 0 | M20: =Diario!R188 -> 0 | N20: =Diario!R189 -> 0 | O20: =Diario!R190 -> 0 | P20: =Diario!R191 -> 0 | Q20: =Diario!R192 -> 0 | R20: =Diario!R193 -> 0 | S20: =Diario!R194 -> 0 | T20: =Diario!R195 -> 0 | U20: =Diario!R196 -> 0 | V20: =Diario!R197 -> 0 | W20: =Diario!R198 -> 0 | X20: =Diario!R199 -> 0 | Y20: =Diario!R200 -> 0 | Z20: =Diario!R201 -> 0 | AA20: =Diario!R202 -> 0 | AB20: =Diario!R203 -> 0 | AC20: =Diario!R204 -> 0 | AD20: =Diario!R205 -> 0 | AE20: =Diario!R206 -> 0 | AF20: =Diario!R207 -> 0 | AG20: =Diario!R208 -> 0 | AH20: =Diario!R209 -> 0 | AW20: DIC | AY20: =COUNTIF(D20:AH20,"C") -> 0 | BA20: =COUNTIF(D20:AH20,"CR") -> 0 | BC20: =COUNTIF(D20:AH20,"FS") -> 0 | BE20: =COUNTIF(D20:AH20,"PM") -> 0 | BG20: =AY20+BA20 -> 0 | BI20: =BG9+BG10+BG11+BG12+BG13+BG14+BG15+BG16+BG17+BG18+BG19+BG20 -> 0
D22: =IF(ISBLANK(Tipologie!$B18),"",Tipologie!$B18) -> P | F22: =IF(ISBLANK(Tipologie!$B19),"",Tipologie!$B19) -> C | H22: =IF(ISBLANK(Tipologie!$B20),"",Tipologie!$B20) -> CAP | J22: =IF(ISBLANK(Tipologie!$B21),"",Tipologie!$B21) -> CAP2 | L22: =IF(ISBLANK(Tipologie!$B22),"",Tipologie!$B22) -> RIP | N22: =IF(ISBLANK(Tipologie!$B23),"",Tipologie!$B23) -> I | P22: =IF(ISBLANK(Tipologie!$B24),"",Tipologie!$B24) -> IL | R22: =IF(ISBLANK(Tipologie!$B25),"",Tipologie!$B25) -> FL | T22: =IF(ISBLANK(Tipologie!$B26),"",Tipologie!$B26) -> RF | V22: =IF(ISBLANK(Tipologie!$B27),"",Tipologie!$B27) -> F | X22: =IF(ISBLANK(Tipologie!$B28),"",Tipologie!$B28) -> M | Z22: =IF(ISBLANK(Tipologie!$B29),"",Tipologie!$B29) -> DOR | AB22: =IF(ISBLANK(Tipologie!$B30),"",Tipologie!$B30) -> V | AD22: =IF(ISBLANK(Tipologie!$B31),"",Tipologie!$B31) -> FS | AF22: =IF(ISBLANK(Tipologie!$B32),"",Tipologie!$B32) -> PM | AH22: =IF(ISBLANK(Tipologie!$B33),"",Tipologie!$B33) -> S | AJ22: =IF(ISBLANK(Tipologie!$B34),"",Tipologie!$B34) -> Mb | AL22: =IF(ISBLANK(Tipologie!$B35),"",Tipologie!$B35) -> Ag | AN22: =IF(ISBLANK(Tipologie!$B36),"",Tipologie!$B36) -> MC | AP22: =IF(ISBLANK(Tipologie!$B37),"",Tipologie!$B37) -> MCAP | AR22: =IF(ISBLANK(Tipologie!$B38),"",Tipologie!$B38) -> MCAP2 | AT22: =IF(ISBLANK(Tipologie!$B39),"",Tipologie!$B39) -> PL | AW22: FESTIVITA' | BJ22: =IF(ISBLANK(Tipologie!B20),"",Tipologie!B20) -> CAP | BK22: =IF(ISBLANK(Tipologie!B21),"",Tipologie!B21) -> CAP2 | BL22: MCN | BM22: MCR
D23: =IF(ISBLANK(Tipologie!$C18),"",Tipologie!$C18) -> Presenza in Servizio | F23: =IF(ISBLANK(Tipologie!$C19),"",Tipologie!$C19) -> Congedo Anno Corrente | H23: =IF(ISBLANK(Tipologie!$C20),"",Tipologie!$C20) -> Congedo Anno Precedente | J23: =IF(ISBLANK(Tipologie!$C21),"",Tipologie!$C21) -> Congedo 2 Anni Precedenti | L23: =IF(ISBLANK(Tipologie!$C22),"",Tipologie!$C22) -> Riposo | N23: =IF(ISBLANK(Tipologie!$C23),"",Tipologie!$C23) -> GRS | P23: =IF(ISBLANK(Tipologie!$C24),"",Tipologie!$C24) -> GRS Lavorato | R23: =IF(ISBLANK(Tipologie!$C25),"",Tipologie!$C25) -> Festivo Lavorato | T23: =IF(ISBLANK(Tipologie!$C26),"",Tipologie!$C26) -> Recupero Festivo | V23: =IF(ISBLANK(Tipologie!$C27),"",Tipologie!$C27) -> Festivo | X23: =IF(ISBLANK(Tipologie!$C28),"",Tipologie!$C28) -> Malattia | Z23: =IF(ISBLANK(Tipologie!$C29),"",Tipologie!$C29) -> Dormita | AB23: =IF(ISBLANK(Tipologie!$C30),"",Tipologie!$C30) -> Visita Medica | AD23: =IF(ISBLANK(Tipologie!$C31),"",Tipologie!$C31) -> Festività Soppressa | AF23: =IF(ISBLANK(Tipologie!$C32),"",Tipologie!$C32) -> Permesso | AH23: =IF(ISBLANK(Tipologie!$C33),"",Tipologie!$C33) -> Sciopero | AJ23: =IF(ISBLANK(Tipologie!$C34),"",Tipologie!$C34) -> Malattia bambino | AL23: =IF(ISBLANK(Tipologie!$C35),"",Tipologie!$C35) -> Assenza giustificata | AN23: =IF(ISBLANK(Tipologie!$C36),"",Tipologie!$C36) -> Mezzo congedo anno corrente | AP23: =IF(ISBLANK(Tipologie!$C37),"",Tipologie!$C37) -> Mezzo congedo anno precedente | AR23: =IF(ISBLANK(Tipologie!$C38),"",Tipologie!$C38) -> Mezzo congedo 2 anni precedenti | AT23: =IF(ISBLANK(Tipologie!$C39),"",Tipologie!$C39) -> Permesso L. 104 | BJ23: Cong Rosse | BK23: Cong Nere | BL23: Mezzo Congedo Nero | BM23: Mezzo Congedo Rosso
BA24: RIPOSO | BB24: LAVORATO | BD24: GODUTO | BE24: RECUPERATO IN DATA | BG24: PAGATO IN DATA
C26: Gennaio | D26: =IF(ISBLANK(Tipologie!$B$18),"",COUNTIF(D9:AH9,Tipologie!$B$18))+(Z26)+(R26) -> 0 | F26: =IF(ISBLANK(Tipologie!$B$19),"",COUNTIF(D9:AH9,Tipologie!$B$19)) -> 0 | H26: =IF(ISBLANK(Tipologie!$B$20),"",COUNTIF(D9:AH9,Tipologie!$B$20)) -> 0 | J26: =IF(ISBLANK(Tipologie!$B$21),"",COUNTIF(D9:AH9,Tipologie!$B$21)) -> 0 | L26: =IF(ISBLANK(Tipologie!$B$22),"",COUNTIF(D9:AH9,Tipologie!$B$22)) -> 0 | N26: =IF(ISBLANK(Tipologie!$B$23),"",COUNTIF(D9:AH9,Tipologie!$B$23)) -> 0 | P26: =IF(ISBLANK(Tipologie!$B$24),"",COUNTIF(D9:AH9,Tipologie!$B$24)) -> 0 | R26: =IF(ISBLANK(Tipologie!$B$25),"",COUNTIF(D9:AH9,Tipologie!$B$25)) -> 0 | T26: =IF(ISBLANK(Tipologie!$B$26),"",COUNTIF(D9:AH9,Tipologie!$B$26)) -> 0 | V26: =IF(ISBLANK(Tipologie!$B$27),"",COUNTIF(D9:AH9,Tipologie!$B$27)) -> 0 | X26: =IF(ISBLANK(Tipologie!$B$28),"",COUNTIF(D9:AH9,Tipologie!$B$28)) -> 0 | Z26: =IF(ISBLANK(Tipologie!$B$29),"",COUNTIF(D9:AH9,Tipologie!$B$29)) -> 0 | AB26: =IF(ISBLANK(Tipologie!$B$30),"",COUNTIF(D9:AH9,Tipologie!$B$30)) -> 0 | AD26: =IF(ISBLANK(Tipologie!$B$31),"",COUNTIF(D9:AH9,Tipologie!$B$31)) -> 0 | AF26: =IF(ISBLANK(Tipologie!$B$32),"",COUNTIF(D9:AH9,Tipologie!$B$32)) -> 0 | AH26: =IF(ISBLANK(Tipologie!$B$33),"",COUNTIF(D9:AH9,Tipologie!$B$33)) -> 0 | AJ26: =IF(ISBLANK(Tipologie!$B$34),"",COUNTIF(D9:AH9,Tipologie!$B$34)) -> 0 | AL26: =IF(ISBLANK(Tipologie!$B$35),"",COUNTIF(D9:AH9,Tipologie!$B$35)) -> 0 | AN26: =IF(ISBLANK(Tipologie!$B$36),"",COUNTIF(D9:AH9,Tipologie!$B$36)) -> 0 | AP26: =IF(ISBLANK(Tipologie!$B$37),"",COUNTIF(D9:AH9,Tipologie!$B$37)) -> 0 | AR26: =IF(ISBLANK(Tipologie!$B$38),"",COUNTIF(D9:AH9,Tipologie!$B$38)) -> 0 | AT26: =IF(ISBLANK(Tipologie!$B$39),"",COUNTIF(D9:AH9,Tipologie!$B$39)) -> 0 | AW26: Capodanno | AZ26: 40909 | BA26: =IF(D9="R","X","") | BB26: =IF(D9="FL","X","") | BD26: =IF(D9="F","X","") | BJ26: =IF(ISBLANK(Tipologie!$B$20),"",COUNTIF(D9:AH9,Tipologie!$B$20)) -> 0 | BK26: =IF(ISBLANK(Tipologie!$B$21),"",COUNTIF(D9:AH9,Tipologie!$B$21)) -> 0 | BL26: =IF(ISBLANK(Tipologie!$B$38),"",COUNTIF(D9:AH9,Tipologie!$B$38)) -> 0 | BM26: =IF(ISBLANK(Tipologie!$B$37),"",COUNTIF(D9:AH9,Tipologie!$B$37)) -> 0
C27: Febbraio | D27: =IF(ISBLANK(Tipologie!$B$18),"",COUNTIF(D10:AH10,Tipologie!$B$18))+(Z27)+(R27) -> 0 | F27: =IF(ISBLANK(Tipologie!$B$19),"",COUNTIF(D10:AH10,Tipologie!$B$19)) -> 0 | H27: =IF(ISBLANK(Tipologie!$B$20),"",COUNTIF(D10:AH10,Tipologie!$B$20)) -> 0 | J27: =IF(ISBLANK(Tipologie!$B$21),"",COUNTIF(D10:AH10,Tipologie!$B$21)) -> 0 | L27: =IF(ISBLANK(Tipologie!$B$22),"",COUNTIF(D10:AH10,Tipologie!$B$22)) -> 0 | N27: =IF(ISBLANK(Tipologie!$B$23),"",COUNTIF(D10:AH10,Tipologie!$B$23)) -> 0 | P27: =IF(ISBLANK(Tipologie!$B$24),"",COUNTIF(D10:AH10,Tipologie!$B$24)) -> 0 | R27: =IF(ISBLANK(Tipologie!$B$25),"",COUNTIF(D10:AH10,Tipologie!$B$25)) -> 0 | T27: =IF(ISBLANK(Tipologie!$B$26),"",COUNTIF(D10:AH10,Tipologie!$B$26)) -> 0 | V27: =IF(ISBLANK(Tipologie!$B$27),"",COUNTIF(D10:AH10,Tipologie!$B$27)) -> 0 | X27: =IF(ISBLANK(Tipologie!$B$28),"",COUNTIF(D10:AH10,Tipologie!$B$28)) -> 0 | Z27: =IF(ISBLANK(Tipologie!$B$29),"",COUNTIF(D10:AH10,Tipologie!$B$29)) -> 0 | AB27: =IF(ISBLANK(Tipologie!$B$30),"",COUNTIF(D10:AH10,Tipologie!$B$30)) -> 0 | AD27: =IF(ISBLANK(Tipologie!$B$31),"",COUNTIF(D10:AH10,Tipologie!$B$31)) -> 0 | AF27: =IF(ISBLANK(Tipologie!$B$32),"",COUNTIF(D10:AH10,Tipologie!$B$32)) -> 0 | AH27: =IF(ISBLANK(Tipologie!$B$33),"",COUNTIF(D10:AH10,Tipologie!$B$33)) -> 0 | AJ27: =IF(ISBLANK(Tipologie!$B$34),"",COUNTIF(D10:AH10,Tipologie!$B$34)) -> 0 | AL27: =IF(ISBLANK(Tipologie!$B$35),"",COUNTIF(D10:AH10,Tipologie!$B$35)) -> 0 | AN27: =IF(ISBLANK(Tipologie!$B$36),"",COUNTIF(D10:AH10,Tipologie!$B$36)) -> 0 | AP27: =IF(ISBLANK(Tipologie!$B$37),"",COUNTIF(D10:AH10,Tipologie!$B$37)) -> 0 | AR27: =IF(ISBLANK(Tipologie!$B$38),"",COUNTIF(D10:AH10,Tipologie!$B$38)) -> 0 | AT27: =IF(ISBLANK(Tipologie!$B$39),"",COUNTIF(D10:AH10,Tipologie!$B$39)) -> 0 | AW27: Epifania | AZ27: 40914 | BA27: =IF(I9="R","X","") | BB27: =IF(I9="FL","X","") | BD27: =IF(I9="F","X","") | BJ27: =IF(ISBLANK(Tipologie!$B$20),"",COUNTIF(D10:AH10,Tipologie!$B$20)) -> 0 | BK27: =IF(ISBLANK(Tipologie!$B$21),"",COUNTIF(D10:AH10,Tipologie!$B$21)) -> 0 | BL27: =IF(ISBLANK(Tipologie!$B$38),"",COUNTIF(D10:AH10,Tipologie!$B$38)) -> 0 | BM27: =IF(ISBLANK(Tipologie!$B$37),"",COUNTIF(D10:AH10,Tipologie!$B$37)) -> 0
C28: Marzo | D28: =IF(ISBLANK(Tipologie!$B$18),"",COUNTIF(D11:AH11,Tipologie!$B$18))+(Z28)+(R28) -> 0 | F28: =IF(ISBLANK(Tipologie!$B$19),"",COUNTIF(D11:AH11,Tipologie!$B$19)) -> 0 | H28: =IF(ISBLANK(Tipologie!$B$20),"",COUNTIF(D11:AH11,Tipologie!$B$20)) -> 0 | J28: =IF(ISBLANK(Tipologie!$B$21),"",COUNTIF(D11:AH11,Tipologie!$B$21)) -> 0 | L28: =IF(ISBLANK(Tipologie!$B$22),"",COUNTIF(D11:AH11,Tipologie!$B$22)) -> 0 | N28: =IF(ISBLANK(Tipologie!$B$23),"",COUNTIF(D11:AH11,Tipologie!$B$23)) -> 0 | P28: =IF(ISBLANK(Tipologie!$B$24),"",COUNTIF(D11:AH11,Tipologie!$B$24)) -> 0 | R28: =IF(ISBLANK(Tipologie!$B$25),"",COUNTIF(D11:AH11,Tipologie!$B$25)) -> 0 | T28: =IF(ISBLANK(Tipologie!$B$26),"",COUNTIF(D11:AH11,Tipologie!$B$26)) -> 0 | V28: =IF(ISBLANK(Tipologie!$B$27),"",COUNTIF(D11:AH11,Tipologie!$B$27)) -> 0 | X28: =IF(ISBLANK(Tipologie!$B$28),"",COUNTIF(D11:AH11,Tipologie!$B$28)) -> 0 | Z28: =IF(ISBLANK(Tipologie!$B$29),"",COUNTIF(D11:AH11,Tipologie!$B$29)) -> 0 | AB28: =IF(ISBLANK(Tipologie!$B$30),"",COUNTIF(D11:AH11,Tipologie!$B$30)) -> 0 | AD28: =IF(ISBLANK(Tipologie!$B$31),"",COUNTIF(D11:AH11,Tipologie!$B$31)) -> 0 | AF28: =IF(ISBLANK(Tipologie!$B$32),"",COUNTIF(D11:AH11,Tipologie!$B$32)) -> 0 | AH28: =IF(ISBLANK(Tipologie!$B$33),"",COUNTIF(D11:AH11,Tipologie!$B$33)) -> 0 | AJ28: =IF(ISBLANK(Tipologie!$B$34),"",COUNTIF(D11:AH11,Tipologie!$B$34)) -> 0 | AL28: =IF(ISBLANK(Tipologie!$B$35),"",COUNTIF(D11:AH11,Tipologie!$B$35)) -> 0 | AN28: =IF(ISBLANK(Tipologie!$B$36),"",COUNTIF(D11:AH11,Tipologie!$B$36)) -> 0 | AP28: =IF(ISBLANK(Tipologie!$B$37),"",COUNTIF(D11:AH11,Tipologie!$B$37)) -> 0 | AR28: =IF(ISBLANK(Tipologie!$B$38),"",COUNTIF(D11:AH11,Tipologie!$B$38)) -> 0 | AT28: =IF(ISBLANK(Tipologie!$B$39),"",COUNTIF(D11:AH11,Tipologie!$B$39)) -> 0 | AW28: F. della Liberazione | AZ28: 41024 | BA28: =IF(AB12="R","X","") | BB28: =IF(AB12="FL","X","") | BD28: =IF(AB12="F","X","") | BJ28: =IF(ISBLANK(Tipologie!$B$20),"",COUNTIF(D11:AH11,Tipologie!$B$20)) -> 0 | BK28: =IF(ISBLANK(Tipologie!$B$21),"",COUNTIF(D11:AH11,Tipologie!$B$21)) -> 0 | BL28: =IF(ISBLANK(Tipologie!$B$38),"",COUNTIF(D11:AH11,Tipologie!$B$38)) -> 0 | BM28: =IF(ISBLANK(Tipologie!$B$37),"",COUNTIF(D11:AH11,Tipologie!$B$37)) -> 0
C29: Aprile | D29: =IF(ISBLANK(Tipologie!$B$18),"",COUNTIF(D12:AH12,Tipologie!$B$18))+(Z29)+(R29) -> 0 | F29: =IF(ISBLANK(Tipologie!$B$19),"",COUNTIF(D12:AH12,Tipologie!$B$19)) -> 0 | H29: =IF(ISBLANK(Tipologie!$B$20),"",COUNTIF(D12:AH12,Tipologie!$B$20)) -> 0 | J29: =IF(ISBLANK(Tipologie!$B$21),"",COUNTIF(D12:AH12,Tipologie!$B$21)) -> 0 | L29: =IF(ISBLANK(Tipologie!$B$22),"",COUNTIF(D12:AH12,Tipologie!$B$22)) -> 0 | N29: =IF(ISBLANK(Tipologie!$B$23),"",COUNTIF(D12:AH12,Tipologie!$B$23)) -> 0 | P29: =IF(ISBLANK(Tipologie!$B$24),"",COUNTIF(D12:AH12,Tipologie!$B$24)) -> 0 | R29: =IF(ISBLANK(Tipologie!$B$25),"",COUNTIF(D12:AH12,Tipologie!$B$25)) -> 0 | T29: =IF(ISBLANK(Tipologie!$B$26),"",COUNTIF(D12:AH12,Tipologie!$B$26)) -> 0 | V29: =IF(ISBLANK(Tipologie!$B$27),"",COUNTIF(D12:AH12,Tipologie!$B$27)) -> 0 | X29: =IF(ISBLANK(Tipologie!$B$28),"",COUNTIF(D12:AH12,Tipologie!$B$28)) -> 0 | Z29: =IF(ISBLANK(Tipologie!$B$29),"",COUNTIF(D12:AH12,Tipologie!$B$29)) -> 0 | AB29: =IF(ISBLANK(Tipologie!$B$30),"",COUNTIF(D12:AH12,Tipologie!$B$30)) -> 0 | AD29: =IF(ISBLANK(Tipologie!$B$31),"",COUNTIF(D12:AH12,Tipologie!$B$31)) -> 0 | AF29: =IF(ISBLANK(Tipologie!$B$32),"",COUNTIF(D12:AH12,Tipologie!$B$32)) -> 0 | AH29: =IF(ISBLANK(Tipologie!$B$33),"",COUNTIF(D12:AH12,Tipologie!$B$33)) -> 0 | AJ29: =IF(ISBLANK(Tipologie!$B$34),"",COUNTIF(D12:AH12,Tipologie!$B$34)) -> 0 | AL29: =IF(ISBLANK(Tipologie!$B$35),"",COUNTIF(D12:AH12,Tipologie!$B$35)) -> 0 | AN29: =IF(ISBLANK(Tipologie!$B$36),"",COUNTIF(D12:AH12,Tipologie!$B$36)) -> 0 | AP29: =IF(ISBLANK(Tipologie!$B$37),"",COUNTIF(D12:AH12,Tipologie!$B$37)) -> 0 | AR29: =IF(ISBLANK(Tipologie!$B$38),"",COUNTIF(D12:AH12,Tipologie!$B$38)) -> 0 | AT29: =IF(ISBLANK(Tipologie!$B$39),"",COUNTIF(D12:AH12,Tipologie!$B$39)) -> 0 | AW29: 1° Maggio | AZ29: 41030 | BA29: =IF(D13="R","X","") | BB29: =IF(D13="FL","X","") | BD29: =IF(D13="F","X","") | BJ29: =IF(ISBLANK(Tipologie!$B$20),"",COUNTIF(D12:AH12,Tipologie!$B$20)) -> 0 | BK29: =IF(ISBLANK(Tipologie!$B$21),"",COUNTIF(D12:AH12,Tipologie!$B$21)) -> 0 | BL29: =IF(ISBLANK(Tipologie!$B$38),"",COUNTIF(D12:AH12,Tipologie!$B$38)) -> 0 | BM29: =IF(ISBLANK(Tipologie!$B$37),"",COUNTIF(D12:AH12,Tipologie!$B$37)) -> 0
C30: Maggio | D30: =IF(ISBLANK(Tipologie!$B$18),"",COUNTIF(D13:AH13,Tipologie!$B$18))+(Z30)+(R30) -> 0 | F30: =IF(ISBLANK(Tipologie!$B$19),"",COUNTIF(D13:AH13,Tipologie!$B$19)) -> 0 | H30: =IF(ISBLANK(Tipologie!$B$20),"",COUNTIF(D13:AH13,Tipologie!$B$20)) -> 0 | J30: =IF(ISBLANK(Tipologie!$B$21),"",COUNTIF(D13:AH13,Tipologie!$B$21)) -> 0 | L30: =IF(ISBLANK(Tipologie!$B$22),"",COUNTIF(D13:AH13,Tipologie!$B$22)) -> 0 | N30: =IF(ISBLANK(Tipologie!$B$23),"",COUNTIF(D13:AH13,Tipologie!$B$23)) -> 0 | P30: =IF(ISBLANK(Tipologie!$B$24),"",COUNTIF(D13:AH13,Tipologie!$B$24)) -> 0 | R30: =IF(ISBLANK(Tipologie!$B$25),"",COUNTIF(D13:AH13,Tipologie!$B$25)) -> 0 | T30: =IF(ISBLANK(Tipologie!$B$26),"",COUNTIF(D13:AH13,Tipologie!$B$26)) -> 0 | V30: =IF(ISBLANK(Tipologie!$B$27),"",COUNTIF(D13:AH13,Tipologie!$B$27)) -> 0 | X30: =IF(ISBLANK(Tipologie!$B$28),"",COUNTIF(D13:AH13,Tipologie!$B$28)) -> 0 | Z30: =IF(ISBLANK(Tipologie!$B$29),"",COUNTIF(D13:AH13,Tipologie!$B$29)) -> 0 | AB30: =IF(ISBLANK(Tipologie!$B$30),"",COUNTIF(D13:AH13,Tipologie!$B$30)) -> 0 | AD30: =IF(ISBLANK(Tipologie!$B$31),"",COUNTIF(D13:AH13,Tipologie!$B$31)) -> 0 | AF30: =IF(ISBLANK(Tipologie!$B$32),"",COUNTIF(D13:AH13,Tipologie!$B$32)) -> 0 | AH30: =IF(ISBLANK(Tipologie!$B$33),"",COUNTIF(D13:AH13,Tipologie!$B$33)) -> 0 | AJ30: =IF(ISBLANK(Tipologie!$B$34),"",COUNTIF(D13:AH13,Tipologie!$B$34)) -> 0 | AL30: =IF(ISBLANK(Tipologie!$B$35),"",COUNTIF(D13:AH13,Tipologie!$B$35)) -> 0 | AN30: =IF(ISBLANK(Tipologie!$B$36),"",COUNTIF(D13:AH13,Tipologie!$B$36)) -> 0 | AP30: =IF(ISBLANK(Tipologie!$B$37),"",COUNTIF(D13:AH13,Tipologie!$B$37)) -> 0 | AR30: =IF(ISBLANK(Tipologie!$B$38),"",COUNTIF(D13:AH13,Tipologie!$B$38)) -> 0 | AT30: =IF(ISBLANK(Tipologie!$B$39),"",COUNTIF(D13:AH13,Tipologie!$B$39)) -> 0 | AW30: F. della Repubblica | AZ30: 41062 | BA30: =IF(E14="R","X","") | BB30: =IF(E14="FL","X","") | BD30: =IF(E14="F","X","") | BJ30: =IF(ISBLANK(Tipologie!$B$20),"",COUNTIF(D13:AH13,Tipologie!$B$20)) -> 0 | BK30: =IF(ISBLANK(Tipologie!$B$21),"",COUNTIF(D13:AH13,Tipologie!$B$21)) -> 0 | BL30: =IF(ISBLANK(Tipologie!$B$38),"",COUNTIF(D13:AH13,Tipologie!$B$38)) -> 0 | BM30: =IF(ISBLANK(Tipologie!$B$37),"",COUNTIF(D13:AH13,Tipologie!$B$37)) -> 0
C31: Giugno | D31: =IF(ISBLANK(Tipologie!$B$18),"",COUNTIF(D14:AH14,Tipologie!$B$18))+(Z31)+(R31) -> 0 | F31: =IF(ISBLANK(Tipologie!$B$19),"",COUNTIF(D14:AH14,Tipologie!$B$19)) -> 0 | H31: =IF(ISBLANK(Tipologie!$B$20),"",COUNTIF(D14:AH14,Tipologie!$B$20)) -> 0 | J31: =IF(ISBLANK(Tipologie!$B$21),"",COUNTIF(D14:AH14,Tipologie!$B$21)) -> 0 | L31: =IF(ISBLANK(Tipologie!$B$22),"",COUNTIF(D14:AH14,Tipologie!$B$22)) -> 0 | N31: =IF(ISBLANK(Tipologie!$B$23),"",COUNTIF(D14:AH14,Tipologie!$B$23)) -> 0 | P31: =IF(ISBLANK(Tipologie!$B$24),"",COUNTIF(D14:AH14,Tipologie!$B$24)) -> 0 | R31: =IF(ISBLANK(Tipologie!$B$25),"",COUNTIF(D14:AH14,Tipologie!$B$25)) -> 0 | T31: =IF(ISBLANK(Tipologie!$B$26),"",COUNTIF(D14:AH14,Tipologie!$B$26)) -> 0 | V31: =IF(ISBLANK(Tipologie!$B$27),"",COUNTIF(D14:AH14,Tipologie!$B$27)) -> 0 | X31: =IF(ISBLANK(Tipologie!$B$28),"",COUNTIF(D14:AH14,Tipologie!$B$28)) -> 0 | Z31: =IF(ISBLANK(Tipologie!$B$29),"",COUNTIF(D14:AH14,Tipologie!$B$29)) -> 0 | AB31: =IF(ISBLANK(Tipologie!$B$30),"",COUNTIF(D14:AH14,Tipologie!$B$30)) -> 0 | AD31: =IF(ISBLANK(Tipologie!$B$31),"",COUNTIF(D14:AH14,Tipologie!$B$31)) -> 0 | AF31: =IF(ISBLANK(Tipologie!$B$32),"",COUNTIF(D14:AH14,Tipologie!$B$32)) -> 0 | AH31: =IF(ISBLANK(Tipologie!$B$33),"",COUNTIF(D14:AH14,Tipologie!$B$33)) -> 0 | AJ31: =IF(ISBLANK(Tipologie!$B$34),"",COUNTIF(D14:AH14,Tipologie!$B$34)) -> 0 | AL31: =IF(ISBLANK(Tipologie!$B$35),"",COUNTIF(D14:AH14,Tipologie!$B$35)) -> 0 | AN31: =IF(ISBLANK(Tipologie!$B$36),"",COUNTIF(D14:AH14,Tipologie!$B$36)) -> 0 | AP31: =IF(ISBLANK(Tipologie!$B$37),"",COUNTIF(D14:AH14,Tipologie!$B$37)) -> 0 | AR31: =IF(ISBLANK(Tipologie!$B$38),"",COUNTIF(D14:AH14,Tipologie!$B$38)) -> 0 | AT31: =IF(ISBLANK(Tipologie!$B$39),"",COUNTIF(D14:AH14,Tipologie!$B$39)) -> 0 | AW31: Ferragosto | AZ31: 41136 | BA31: =IF(R16="R","X","") | BB31: =IF(R16="FL","X","") | BD31: =IF(R16="F","X","") | BJ31: =IF(ISBLANK(Tipologie!$B$20),"",COUNTIF(D14:AH14,Tipologie!$B$20)) -> 0 | BK31: =IF(ISBLANK(Tipologie!$B$21),"",COUNTIF(D14:AH14,Tipologie!$B$21)) -> 0 | BL31: =IF(ISBLANK(Tipologie!$B$38),"",COUNTIF(D14:AH14,Tipologie!$B$38)) -> 0 | BM31: =IF(ISBLANK(Tipologie!$B$37),"",COUNTIF(D14:AH14,Tipologie!$B$37)) -> 0
C32: Luglio | D32: =IF(ISBLANK(Tipologie!$B$18),"",COUNTIF(D15:AH15,Tipologie!$B$18))+(Z32)+(R32) -> 0 | F32: =IF(ISBLANK(Tipologie!$B$19),"",COUNTIF(D15:AH15,Tipologie!$B$19)) -> 0 | H32: =IF(ISBLANK(Tipologie!$B$20),"",COUNTIF(D15:AH15,Tipologie!$B$20)) -> 0 | J32: =IF(ISBLANK(Tipologie!$B$21),"",COUNTIF(D15:AH15,Tipologie!$B$21)) -> 0 | L32: =IF(ISBLANK(Tipologie!$B$22),"",COUNTIF(D15:AH15,Tipologie!$B$22)) -> 0 | N32: =IF(ISBLANK(Tipologie!$B$23),"",COUNTIF(D15:AH15,Tipologie!$B$23)) -> 0 | P32: =IF(ISBLANK(Tipologie!$B$24),"",COUNTIF(D15:AH15,Tipologie!$B$24)) -> 0 | R32: =IF(ISBLANK(Tipologie!$B$25),"",COUNTIF(D15:AH15,Tipologie!$B$25)) -> 0 | T32: =IF(ISBLANK(Tipologie!$B$26),"",COUNTIF(D15:AH15,Tipologie!$B$26)) -> 0 | V32: =IF(ISBLANK(Tipologie!$B$27),"",COUNTIF(D15:AH15,Tipologie!$B$27)) -> 0 | X32: =IF(ISBLANK(Tipologie!$B$28),"",COUNTIF(D15:AH15,Tipologie!$B$28)) -> 0 | Z32: =IF(ISBLANK(Tipologie!$B$29),"",COUNTIF(D15:AH15,Tipologie!$B$29)) -> 0 | AB32: =IF(ISBLANK(Tipologie!$B$30),"",COUNTIF(D15:AH15,Tipologie!$B$30)) -> 0 | AD32: =IF(ISBLANK(Tipologie!$B$31),"",COUNTIF(D15:AH15,Tipologie!$B$31)) -> 0 | AF32: =IF(ISBLANK(Tipologie!$B$32),"",COUNTIF(D15:AH15,Tipologie!$B$32)) -> 0 | AH32: =IF(ISBLANK(Tipologie!$B$33),"",COUNTIF(D15:AH15,Tipologie!$B$33)) -> 0 | AJ32: =IF(ISBLANK(Tipologie!$B$34),"",COUNTIF(D15:AH15,Tipologie!$B$34)) -> 0 | AL32: =IF(ISBLANK(Tipologie!$B$35),"",COUNTIF(D15:AH15,Tipologie!$B$35)) -> 0 | AN32: =IF(ISBLANK(Tipologie!$B$36),"",COUNTIF(D15:AH15,Tipologie!$B$36)) -> 0 | AP32: =IF(ISBLANK(Tipologie!$B$37),"",COUNTIF(D15:AH15,Tipologie!$B$37)) -> 0 | AR32: =IF(ISBLANK(Tipologie!$B$38),"",COUNTIF(D15:AH15,Tipologie!$B$38)) -> 0 | AT32: =IF(ISBLANK(Tipologie!$B$39),"",COUNTIF(D15:AH15,Tipologie!$B$39)) -> 0 | AW32: Tutti i Santi | AZ32: 41214 | BA32: =IF(D19="R","X","") | BB32: =IF(D19="FL","X","") | BD32: =IF(D19="F","X","") | BJ32: =IF(ISBLANK(Tipologie!$B$20),"",COUNTIF(D15:AH15,Tipologie!$B$20)) -> 0 | BK32: =IF(ISBLANK(Tipologie!$B$21),"",COUNTIF(D15:AH15,Tipologie!$B$21)) -> 0 | BL32: =IF(ISBLANK(Tipologie!$B$38),"",COUNTIF(D15:AH15,Tipologie!$B$38)) -> 0 | BM32: =IF(ISBLANK(Tipologie!$B$37),"",COUNTIF(D15:AH15,Tipologie!$B$37)) -> 0
C33: Agosto | D33: =IF(ISBLANK(Tipologie!$B$18),"",COUNTIF(D16:AH16,Tipologie!$B$18))+(Z33)+(R33) -> 0 | F33: =IF(ISBLANK(Tipologie!$B$19),"",COUNTIF(D16:AH16,Tipologie!$B$19)) -> 0 | H33: =IF(ISBLANK(Tipologie!$B$20),"",COUNTIF(D16:AH16,Tipologie!$B$20)) -> 0 | J33: =IF(ISBLANK(Tipologie!$B$21),"",COUNTIF(D16:AH16,Tipologie!$B$21)) -> 0 | L33: =IF(ISBLANK(Tipologie!$B$22),"",COUNTIF(D16:AH16,Tipologie!$B$22)) -> 0 | N33: =IF(ISBLANK(Tipologie!$B$23),"",COUNTIF(D16:AH16,Tipologie!$B$23)) -> 0 | P33: =IF(ISBLANK(Tipologie!$B$24),"",COUNTIF(D16:AH16,Tipologie!$B$24)) -> 0 | R33: =IF(ISBLANK(Tipologie!$B$25),"",COUNTIF(D16:AH16,Tipologie!$B$25)) -> 0 | T33: =IF(ISBLANK(Tipologie!$B$26),"",COUNTIF(D16:AH16,Tipologie!$B$26)) -> 0 | V33: =IF(ISBLANK(Tipologie!$B$27),"",COUNTIF(D16:AH16,Tipologie!$B$27)) -> 0 | X33: =IF(ISBLANK(Tipologie!$B$28),"",COUNTIF(D16:AH16,Tipologie!$B$28)) -> 0 | Z33: =IF(ISBLANK(Tipologie!$B$29),"",COUNTIF(D16:AH16,Tipologie!$B$29)) -> 0 | AB33: =IF(ISBLANK(Tipologie!$B$30),"",COUNTIF(D16:AH16,Tipologie!$B$30)) -> 0 | AD33: =IF(ISBLANK(Tipologie!$B$31),"",COUNTIF(D16:AH16,Tipologie!$B$31)) -> 0 | AF33: =IF(ISBLANK(Tipologie!$B$32),"",COUNTIF(D16:AH16,Tipologie!$B$32)) -> 0 | AH33: =IF(ISBLANK(Tipologie!$B$33),"",COUNTIF(D16:AH16,Tipologie!$B$33)) -> 0 | AJ33: =IF(ISBLANK(Tipologie!$B$34),"",COUNTIF(D16:AH16,Tipologie!$B$34)) -> 0 | AL33: =IF(ISBLANK(Tipologie!$B$35),"",COUNTIF(D16:AH16,Tipologie!$B$35)) -> 0 | AN33: =IF(ISBLANK(Tipologie!$B$36),"",COUNTIF(D16:AH16,Tipologie!$B$36)) -> 0 | AP33: =IF(ISBLANK(Tipologie!$B$37),"",COUNTIF(D16:AH16,Tipologie!$B$37)) -> 0 | AR33: =IF(ISBLANK(Tipologie!$B$38),"",COUNTIF(D16:AH16,Tipologie!$B$38)) -> 0 | AT33: =IF(ISBLANK(Tipologie!$B$39),"",COUNTIF(D16:AH16,Tipologie!$B$39)) -> 0 | AW33: Immacolata | AZ33: 41251 | BA33: =IF(K20="R","X","") | BB33: =IF(K20="FL","X","") | BD33: =IF(K20="F","X","") | BJ33: =IF(ISBLANK(Tipologie!$B$20),"",COUNTIF(D16:AH16,Tipologie!$B$20)) -> 0 | BK33: =IF(ISBLANK(Tipologie!$B$21),"",COUNTIF(D16:AH16,Tipologie!$B$21)) -> 0 | BL33: =IF(ISBLANK(Tipologie!$B$38),"",COUNTIF(D16:AH16,Tipologie!$B$38)) -> 0 | BM33: =IF(ISBLANK(Tipologie!$B$37),"",COUNTIF(D16:AH16,Tipologie!$B$37)) -> 0
C34: Settembre | D34: =IF(ISBLANK(Tipologie!$B$18),"",COUNTIF(D17:AH17,Tipologie!$B$18))+(Z34)+(R34) -> 0 | F34: =IF(ISBLANK(Tipologie!$B$19),"",COUNTIF(D17:AH17,Tipologie!$B$19)) -> 0 | H34: =IF(ISBLANK(Tipologie!$B$20),"",COUNTIF(D17:AH17,Tipologie!$B$20)) -> 0 | J34: =IF(ISBLANK(Tipologie!$B$21),"",COUNTIF(D17:AH17,Tipologie!$B$21)) -> 0 | L34: =IF(ISBLANK(Tipologie!$B$22),"",COUNTIF(D17:AH17,Tipologie!$B$22)) -> 0 | N34: =IF(ISBLANK(Tipologie!$B$23),"",COUNTIF(D17:AH17,Tipologie!$B$23)) -> 0 | P34: =IF(ISBLANK(Tipologie!$B$24),"",COUNTIF(D17:AH17,Tipologie!$B$24)) -> 0 | R34: =IF(ISBLANK(Tipologie!$B$25),"",COUNTIF(D17:AH17,Tipologie!$B$25)) -> 0 | T34: =IF(ISBLANK(Tipologie!$B$26),"",COUNTIF(D17:AH17,Tipologie!$B$26)) -> 0 | V34: =IF(ISBLANK(Tipologie!$B$27),"",COUNTIF(D17:AH17,Tipologie!$B$27)) -> 0 | X34: =IF(ISBLANK(Tipologie!$B$28),"",COUNTIF(D17:AH17,Tipologie!$B$28)) -> 0 | Z34: =IF(ISBLANK(Tipologie!$B$29),"",COUNTIF(D17:AH17,Tipologie!$B$29)) -> 0 | AB34: =IF(ISBLANK(Tipologie!$B$30),"",COUNTIF(D17:AH17,Tipologie!$B$30)) -> 0 | AD34: =IF(ISBLANK(Tipologie!$B$31),"",COUNTIF(D17:AH17,Tipologie!$B$31)) -> 0 | AF34: =IF(ISBLANK(Tipologie!$B$32),"",COUNTIF(D17:AH17,Tipologie!$B$32)) -> 0 | AH34: =IF(ISBLANK(Tipologie!$B$33),"",COUNTIF(D17:AH17,Tipologie!$B$33)) -> 0 | AJ34: =IF(ISBLANK(Tipologie!$B$34),"",COUNTIF(D17:AH17,Tipologie!$B$34)) -> 0 | AL34: =IF(ISBLANK(Tipologie!$B$35),"",COUNTIF(D17:AH17,Tipologie!$B$35)) -> 0 | AN34: =IF(ISBLANK(Tipologie!$B$36),"",COUNTIF(D17:AH17,Tipologie!$B$36)) -> 0 | AP34: =IF(ISBLANK(Tipologie!$B$37),"",COUNTIF(D17:AH17,Tipologie!$B$37)) -> 0 | AR34: =IF(ISBLANK(Tipologie!$B$38),"",COUNTIF(D17:AH17,Tipologie!$B$38)) -> 0 | AT34: =IF(ISBLANK(Tipologie!$B$39),"",COUNTIF(D17:AH17,Tipologie!$B$39)) -> 0 | AW34: Natale | AZ34: 41268 | BA34: =IF(AB20="R","X","") | BB34: =IF(AB20="FL","X","") | BD34: =IF(AB20="F","X","") | BJ34: =IF(ISBLANK(Tipologie!$B$20),"",COUNTIF(D17:AH17,Tipologie!$B$20)) -> 0 | BK34: =IF(ISBLANK(Tipologie!$B$21),"",COUNTIF(D17:AH17,Tipologie!$B$21)) -> 0 | BL34: =IF(ISBLANK(Tipologie!$B$38),"",COUNTIF(D17:AH17,Tipologie!$B$38)) -> 0 | BM34: =IF(ISBLANK(Tipologie!$B$37),"",COUNTIF(D17:AH17,Tipologie!$B$37)) -> 0
C35: Ottobre | D35: =IF(ISBLANK(Tipologie!$B$18),"",COUNTIF(D18:AH18,Tipologie!$B$18))+(Z35)+(R35) -> 0 | F35: =IF(ISBLANK(Tipologie!$B$19),"",COUNTIF(D18:AH18,Tipologie!$B$19)) -> 0 | H35: =IF(ISBLANK(Tipologie!$B$20),"",COUNTIF(D18:AH18,Tipologie!$B$20)) -> 0 | J35: =IF(ISBLANK(Tipologie!$B$21),"",COUNTIF(D18:AH18,Tipologie!$B$21)) -> 0 | L35: =IF(ISBLANK(Tipologie!$B$22),"",COUNTIF(D18:AH18,Tipologie!$B$22)) -> 0 | N35: =IF(ISBLANK(Tipologie!$B$23),"",COUNTIF(D18:AH18,Tipologie!$B$23)) -> 0 | P35: =IF(ISBLANK(Tipologie!$B$24),"",COUNTIF(D18:AH18,Tipologie!$B$24)) -> 0 | R35: =IF(ISBLANK(Tipologie!$B$25),"",COUNTIF(D18:AH18,Tipologie!$B$25)) -> 0 | T35: =IF(ISBLANK(Tipologie!$B$26),"",COUNTIF(D18:AH18,Tipologie!$B$26)) -> 0 | V35: =IF(ISBLANK(Tipologie!$B$27),"",COUNTIF(D18:AH18,Tipologie!$B$27)) -> 0 | X35: =IF(ISBLANK(Tipologie!$B$28),"",COUNTIF(D18:AH18,Tipologie!$B$28)) -> 0 | Z35: =IF(ISBLANK(Tipologie!$B$29),"",COUNTIF(D18:AH18,Tipologie!$B$29)) -> 0 | AB35: =IF(ISBLANK(Tipologie!$B$30),"",COUNTIF(D18:AH18,Tipologie!$B$30)) -> 0 | AD35: =IF(ISBLANK(Tipologie!$B$31),"",COUNTIF(D18:AH18,Tipologie!$B$31)) -> 0 | AF35: =IF(ISBLANK(Tipologie!$B$32),"",COUNTIF(D18:AH18,Tipologie!$B$32)) -> 0 | AH35: =IF(ISBLANK(Tipologie!$B$33),"",COUNTIF(D18:AH18,Tipologie!$B$33)) -> 0 | AJ35: =IF(ISBLANK(Tipologie!$B$34),"",COUNTIF(D18:AH18,Tipologie!$B$34)) -> 0 | AL35: =IF(ISBLANK(Tipologie!$B$35),"",COUNTIF(D18:AH18,Tipologie!$B$35)) -> 0 | AN35: =IF(ISBLANK(Tipologie!$B$36),"",COUNTIF(D18:AH18,Tipologie!$B$36)) -> 0 | AP35: =IF(ISBLANK(Tipologie!$B$37),"",COUNTIF(D18:AH18,Tipologie!$B$37)) -> 0 | AR35: =IF(ISBLANK(Tipologie!$B$38),"",COUNTIF(D18:AH18,Tipologie!$B$38)) -> 0 | AT35: =IF(ISBLANK(Tipologie!$B$39),"",COUNTIF(D18:AH18,Tipologie!$B$39)) -> 0 | AW35: Santo Stefano | AZ35: 41269 | BA35: =IF(AC20="R","X","") | BB35: =IF(AC20="FL","X","") | BD35: =IF(AC20="F","X","") | BJ35: =IF(ISBLANK(Tipologie!$B$20),"",COUNTIF(D18:AH18,Tipologie!$B$20)) -> 0 | BK35: =IF(ISBLANK(Tipologie!$B$21),"",COUNTIF(D18:AH18,Tipologie!$B$21)) -> 0 | BL35: =IF(ISBLANK(Tipologie!$B$38),"",COUNTIF(D18:AH18,Tipologie!$B$38)) -> 0 | BM35: =IF(ISBLANK(Tipologie!$B$37),"",COUNTIF(D18:AH18,Tipologie!$B$37)) -> 0
C36: Novembre | D36: =IF(ISBLANK(Tipologie!$B$18),"",COUNTIF(D19:AH19,Tipologie!$B$18))+(Z36)+(R36) -> 0 | F36: =IF(ISBLANK(Tipologie!$B$19),"",COUNTIF(D19:AH19,Tipologie!$B$19)) -> 0 | H36: =IF(ISBLANK(Tipologie!$B$20),"",COUNTIF(D19:AH19,Tipologie!$B$20)) -> 0 | J36: =IF(ISBLANK(Tipologie!$B$21),"",COUNTIF(D19:AH19,Tipologie!$B$21)) -> 0 | L36: =IF(ISBLANK(Tipologie!$B$22),"",COUNTIF(D19:AH19,Tipologie!$B$22)) -> 0 | N36: =IF(ISBLANK(Tipologie!$B$23),"",COUNTIF(D19:AH19,Tipologie!$B$23)) -> 0 | P36: =IF(ISBLANK(Tipologie!$B$24),"",COUNTIF(D19:AH19,Tipologie!$B$24)) -> 0 | R36: =IF(ISBLANK(Tipologie!$B$25),"",COUNTIF(D19:AH19,Tipologie!$B$25)) -> 0 | T36: =IF(ISBLANK(Tipologie!$B$26),"",COUNTIF(D19:AH19,Tipologie!$B$26)) -> 0 | V36: =IF(ISBLANK(Tipologie!$B$27),"",COUNTIF(D19:AH19,Tipologie!$B$27)) -> 0 | X36: =IF(ISBLANK(Tipologie!$B$28),"",COUNTIF(D19:AH19,Tipologie!$B$28)) -> 0 | Z36: =IF(ISBLANK(Tipologie!$B$29),"",COUNTIF(D19:AH19,Tipologie!$B$29)) -> 0 | AB36: =IF(ISBLANK(Tipologie!$B$30),"",COUNTIF(D19:AH19,Tipologie!$B$30)) -> 0 | AD36: =IF(ISBLANK(Tipologie!$B$31),"",COUNTIF(D19:AH19,Tipologie!$B$31)) -> 0 | AF36: =IF(ISBLANK(Tipologie!$B$32),"",COUNTIF(D19:AH19,Tipologie!$B$32)) -> 0 | AH36: =IF(ISBLANK(Tipologie!$B$33),"",COUNTIF(D19:AH19,Tipologie!$B$33)) -> 0 | AJ36: =IF(ISBLANK(Tipologie!$B$34),"",COUNTIF(D19:AH19,Tipologie!$B$34)) -> 0 | AL36: =IF(ISBLANK(Tipologie!$B$35),"",COUNTIF(D19:AH19,Tipologie!$B$35)) -> 0 | AN36: =IF(ISBLANK(Tipologie!$B$36),"",COUNTIF(D19:AH19,Tipologie!$B$36)) -> 0 | AP36: =IF(ISBLANK(Tipologie!$B$37),"",COUNTIF(D19:AH19,Tipologie!$B$37)) -> 0 | AR36: =IF(ISBLANK(Tipologie!$B$38),"",COUNTIF(D19:AH19,Tipologie!$B$38)) -> 0 | AT36: =IF(ISBLANK(Tipologie!$B$39),"",COUNTIF(D19:AH19,Tipologie!$B$39)) -> 0 | AW36: Patrono | AZ36: 41250 | BA36: =IF(J20="R","X","") | BB36: =IF(J20="FL","X","") | BD36: =IF(J20="F","X","") | BJ36: =IF(ISBLANK(Tipologie!$B$20),"",COUNTIF(D19:AH19,Tipologie!$B$20)) -> 0 | BK36: =IF(ISBLANK(Tipologie!$B$21),"",COUNTIF(D19:AH19,Tipologie!$B$21)) -> 0 | BL36: =IF(ISBLANK(Tipologie!$B$38),"",COUNTIF(D19:AH19,Tipologie!$B$38)) -> 0 | BM36: =IF(ISBLANK(Tipologie!$B$37),"",COUNTIF(D19:AH19,Tipologie!$B$37)) -> 0
C37: Dicembre | D37: =IF(ISBLANK(Tipologie!$B$18),"",COUNTIF(D20:AH20,Tipologie!$B$18))+(Z37)+(R37) -> 0 | F37: =IF(ISBLANK(Tipologie!$B$19),"",COUNTIF(D20:AH20,Tipologie!$B$19)) -> 0 | H37: =IF(ISBLANK(Tipologie!$B$20),"",COUNTIF(D20:AH20,Tipologie!$B$20)) -> 0 | J37: =IF(ISBLANK(Tipologie!$B$21),"",COUNTIF(D20:AH20,Tipologie!$B$21)) -> 0 | L37: =IF(ISBLANK(Tipologie!$B$22),"",COUNTIF(D20:AH20,Tipologie!$B$22)) -> 0 | N37: =IF(ISBLANK(Tipologie!$B$23),"",COUNTIF(D20:AH20,Tipologie!$B$23)) -> 0 | P37: =IF(ISBLANK(Tipologie!$B$24),"",COUNTIF(D20:AH20,Tipologie!$B$24)) -> 0 | R37: =IF(ISBLANK(Tipologie!$B$25),"",COUNTIF(D20:AH20,Tipologie!$B$25)) -> 0 | T37: =IF(ISBLANK(Tipologie!$B$26),"",COUNTIF(D20:AH20,Tipologie!$B$26)) -> 0 | V37: =IF(ISBLANK(Tipologie!$B$27),"",COUNTIF(D20:AH20,Tipologie!$B$27)) -> 0 | X37: =IF(ISBLANK(Tipologie!$B$28),"",COUNTIF(D20:AH20,Tipologie!$B$28)) -> 0 | Z37: =IF(ISBLANK(Tipologie!$B$29),"",COUNTIF(D20:AH20,Tipologie!$B$29)) -> 0 | AB37: =IF(ISBLANK(Tipologie!$B$30),"",COUNTIF(D20:AH20,Tipologie!$B$30)) -> 0 | AD37: =IF(ISBLANK(Tipologie!$B$31),"",COUNTIF(D20:AH20,Tipologie!$B$31)) -> 0 | AF37: =IF(ISBLANK(Tipologie!$B$32),"",COUNTIF(D20:AH20,Tipologie!$B$32)) -> 0 | AH37: =IF(ISBLANK(Tipologie!$B$33),"",COUNTIF(D20:AH20,Tipologie!$B$33)) -> 0 | AJ37: =IF(ISBLANK(Tipologie!$B$34),"",COUNTIF(D20:AH20,Tipologie!$B$34)) -> 0 | AL37: =IF(ISBLANK(Tipologie!$B$35),"",COUNTIF(D20:AH20,Tipologie!$B$35)) -> 0 | AN37: =IF(ISBLANK(Tipologie!$B$36),"",COUNTIF(D20:AH20,Tipologie!$B$36)) -> 0 | AP37: =IF(ISBLANK(Tipologie!$B$37),"",COUNTIF(D20:AH20,Tipologie!$B$37)) -> 0 | AR37: =IF(ISBLANK(Tipologie!$B$38),"",COUNTIF(D20:AH20,Tipologie!$B$38)) -> 0 | AT37: =IF(ISBLANK(Tipologie!$B$39),"",COUNTIF(D20:AH20,Tipologie!$B$39)) -> 0 | BJ37: =IF(ISBLANK(Tipologie!$B$20),"",COUNTIF(D20:AH20,Tipologie!$B$20)) -> 0 | BK37: =IF(ISBLANK(Tipologie!$B$21),"",COUNTIF(D20:AH20,Tipologie!$B$21)) -> 0 | BL37: =IF(ISBLANK(Tipologie!$B$38),"",COUNTIF(D20:AH20,Tipologie!$B$38)) -> 0 | BM37: =IF(ISBLANK(Tipologie!$B$37),"",COUNTIF(D20:AH20,Tipologie!$B$37)) -> 0
D38: =IF(ISBLANK(Tipologie!$B$18),"",SUM(D26:D37)) -> 0 | F38: =IF(ISBLANK(Tipologie!$B$19),"",SUM(F26:F37)) -> 0 | H38: =IF(ISBLANK(Tipologie!$B$20),"",SUM(H26:H37)) -> 0 | J38: =IF(ISBLANK(Tipologie!$B$21),"",SUM(J26:J37)) -> 0 | L38: =IF(ISBLANK(Tipologie!$B$22),"",SUM(L26:L37)) -> 0 | N38: =IF(ISBLANK(Tipologie!$B$23),"",SUM(N26:N37)) -> 0 | P38: =IF(ISBLANK(Tipologie!$B$24),"",SUM(P26:P37)) -> 0 | R38: =IF(ISBLANK(Tipologie!$B$25),"",SUM(R26:R37)) -> 0 | T38: =IF(ISBLANK(Tipologie!$B$26),"",SUM(T26:T37)) -> 0 | V38: =IF(ISBLANK(Tipologie!$B$27),"",SUM(V26:V37)) -> 0 | X38: =IF(ISBLANK(Tipologie!$B$28),"",SUM(X26:X37)) -> 0 | Z38: =IF(ISBLANK(Tipologie!$B$29),"",SUM(Z26:Z37)) -> 0 | AB38: =IF(ISBLANK(Tipologie!$B$30),"",SUM(AB26:AB37)) -> 0 | AD38: =IF(ISBLANK(Tipologie!$B$31),"",SUM(AD26:AD37)) -> 0 | AF38: =IF(ISBLANK(Tipologie!$B$32),"",SUM(AF26:AF37)) -> 0 | AH38: =IF(ISBLANK(Tipologie!$B$33),"",SUM(AH26:AH37)) -> 0 | AJ38: =IF(ISBLANK(Tipologie!$B$34),"",SUM(AJ26:AJ37)) -> 0 | AL38: =IF(ISBLANK(Tipologie!$B$35),"",SUM(AL26:AL37)) -> 0 | AN38: =IF(ISBLANK(Tipologie!$B$36),"",SUM(AN26:AN37)) -> 0 | AP38: =IF(ISBLANK(Tipologie!$B$37),"",SUM(AP26:AP37)) -> 0 | AR38: =IF(ISBLANK(Tipologie!$B$38),"",SUM(AR26:AR37)) -> 0 | AT38: =IF(ISBLANK(Tipologie!$B$39),"",SUM(AT26:AT37)) -> 0 | AW38: Lunedì di Pasqua | AZ38: =Festività!Pasqua+1 -> 45768 | BA38: =IF(INDEX(Diario!E:E,MATCH(AZ38,Diario!C:C,0))="R","X","") | BB38: =IF(INDEX(Diario!E:E,MATCH(AZ38,Diario!C:C,0))="FL","X","") | BD38: =IF(INDEX(Diario!E:E,MATCH(AZ38,Diario!C:C,0))="F","X","") | BJ38: =IF(ISBLANK(Tipologie!$B$20),"",SUM(BJ26:BJ37)+(BM38/2)) -> 0 | BK38: =IF(ISBLANK(Tipologie!$B$21),"",SUM(BK26:BK37)+(BL38/2)) -> 0 | BL38: =IF(ISBLANK(Tipologie!$B$38),"",SUM(BL26:BL37)) -> 0 | BM38: =IF(ISBLANK(Tipologie!$B$37),"",SUM(BM26:BM37)) -> 0
C39: Tot.Anno | D39: =D38+P38+F38+H38+J38+L38+N38+T38+V38++AB38+AD38+AF38+AH38+AN38+AJ38+AL38+AP38+AR38+AT38+X38 -> 0
A43: 1 | B43: 2
A47: 1 | B47: 2
L57: 2560 tira/2571 so/2575 cle/taxi sr
L146: Taxi fio/26345 pg/10820/5254w2563

Sheet Diario
C1: Gennaio | P1: Luglio
C2: DATA | D2: GIOR | E2: Tipo | F2: GIORNATA TURNO | G2: SERVIZIO | I2: Ore Lavoro | J2: Totale | K2: Monte Ore | L2: Straord | M2: SERVIZIO | N2: NOTE | O2: TK | P2: DATA | Q2: GIOR | R2: Tipo | S2: GIORNATA TURNO | T2: SERVIZIO | V2: Ore Lavoro | W2: Totale | X2: Monte Ore | Y2: Straord | Z2: SERVIZIO | AA2: NOTE | AB2: TK
G3: DALLE | H3: ALLE | T3: DALLE | U3: ALLE
A4: 1 | B4: 1 | C4: =DATE(Anno,1,1) -> 45658 | D4: =C4 -> 45658 | I4: =IF(C4="","",IF(OR(G4="",H4=""),,IF(H4<G4,MOD(H4-G4,1),H4-G4))) -> 0 | O4: =IF(E4="d","1","")&IF(E4="P","1","")&IF(E4="FL","1","")&IF(E4="IL","1","")&IF(E4="V","1","") | P4: =DATE(Anno,7,1) -> 45839 | Q4: =P4 -> 45839 | V4: =IF(P4="","",IF(OR(T4="",U4=""),,IF(U4<T4,MOD(U4-T4,1),U4-T4))) -> 0 | AB4: =IF(R4="d","1","")&IF(R4="P","1","")&IF(R4="FL","1","")&IF(R4="IL","1","")&IF(R4="V","1","")
A5: 1 | B5: 2 | C5: =DATE(Anno,1,2) -> 45659 | D5: =C5 -> 45659 | I5: =IF(C5="","",IF(OR(G5="",H5=""),,IF(H5<G5,MOD(H5-G5,1),H5-G5))) -> 0 | O5: =IF(E5="d","1","")&IF(E5="P","1","")&IF(E5="FL","1","")&IF(E5="IL","1","")&IF(E5="V","1","") | P5: =DATE(Anno,7,2) -> 45840 | Q5: =P5 -> 45840 | V5: =IF(P5="","",IF(OR(T5="",U5=""),,IF(U5<T5,MOD(U5-T5,1),U5-T5))) -> 0 | AB5: =IF(R5="d","1","")&IF(R5="P","1","")&IF(R5="FL","1","")&IF(R5="IL","1","")&IF(R5="V","1","")
A6: 1 | B6: 3 | C6: =DATE(Anno,1,3) -> 45660 | D6: =C6 -> 45660 | I6: =IF(C6="","",IF(OR(G6="",H6=""),,IF(H6<G6,MOD(H6-G6,1),H6-G6))) -> 0 | O6: =IF(E6="d","1","")&IF(E6="P","1","")&IF(E6="FL","1","")&IF(E6="IL","1","")&IF(E6="V","1","") | P6: =DATE(Anno,7,3) -> 45841 | Q6: =P6 -> 45841 | V6: =IF(P6="","",IF(OR(T6="",U6=""),,IF(U6<T6,MOD(U6-T6,1),U6-T6))) -> 0 | AB6: =IF(R6="d","1","")&IF(R6="P","1","")&IF(R6="FL","1","")&IF(R6="IL","1","")&IF(R6="V","1","")
A7: 1 | B7: 4 | C7: =DATE(Anno,1,4) -> 45661 | D7: =C7 -> 45661 | I7: =IF(C7="","",IF(OR(G7="",H7=""),,IF(H7<G7,MOD(H7-G7,1),H7-G7))) -> 0 | O7: =IF(E7="d","1","")&IF(E7="P","1","")&IF(E7="FL","1","")&IF(E7="IL","1","")&IF(E7="V","1","") | P7: =DATE(Anno,7,4) -> 45842 | Q7: =P7 -> 45842 | V7: =IF(P7="","",IF(OR(T7="",U7=""),,IF(U7<T7,MOD(U7-T7,1),U7-T7))) -> 0 | AB7: =IF(R7="d","1","")&IF(R7="P","1","")&IF(R7="FL","1","")&IF(R7="IL","1","")&IF(R7="V","1","")
A8: 1 | B8: 5 | C8: =DATE(Anno,1,5) -> 45662 | D8: =C8 -> 45662 | I8: =IF(C8="","",IF(OR(G8="",H8=""),,IF(H8<G8,MOD(H8-G8,1),H8-G8))) -> 0 | O8: =IF(E8="d","1","")&IF(E8="P","1","")&IF(E8="FL","1","")&IF(E8="IL","1","")&IF(E8="V","1","") | P8: =DATE(Anno,7,5) -> 45843 | Q8: =P8 -> 45843 | V8: =IF(P8="","",IF(OR(T8="",U8=""),,IF(U8<T8,MOD(U8-T8,1),U8-T8))) -> 0 | AB8: =IF(R8="d","1","")&IF(R8="P","1","")&IF(R8="FL","1","")&IF(R8="IL","1","")&IF(R8="V","1","")
A9: 1 | B9: 6 | C9: =DATE(Anno,1,6) -> 45663 | D9: =C9 -> 45663 | I9: =IF(C9="","",IF(OR(G9="",H9=""),,IF(H9<G9,MOD(H9-G9,1),H9-G9))) -> 0 | O9: =IF(E9="d","1","")&IF(E9="P","1","")&IF(E9="FL","1","")&IF(E9="IL","1","")&IF(E9="V","1","") | P9: =DATE(Anno,7,6) -> 45844 | Q9: =P9 -> 45844 | V9: =IF(P9="","",IF(OR(T9="",U9=""),,IF(U9<T9,MOD(U9-T9,1),U9-T9))) -> 0 | AB9: =IF(R9="d","1","")&IF(R9="P","1","")&IF(R9="FL","1","")&IF(R9="IL","1","")&IF(R9="V","1","")
A10: 1 | B10: 7 | C10: =DATE(Anno,1,7) -> 45664 | D10: =C10 -> 45664 | I10: =IF(C10="","",IF(OR(G10="",H10=""),,IF(H10<G10,MOD(H10-G10,1),H10-G10))) -> 0 | O10: =IF(E10="d","1","")&IF(E10="P","1","")&IF(E10="FL","1","")&IF(E10="IL","1","")&IF(E10="V","1","") | P10: =DATE(Anno,7,7) -> 45845 | Q10: =P10 -> 45845 | V10: =IF(P10="","",IF(OR(T10="",U10=""),,IF(U10<T10,MOD(U10-T10,1),U10-T10))) -> 0 | AB10: =IF(R10="d","1","")&IF(R10="P","1","")&IF(R10="FL","1","")&IF(R10="IL","1","")&IF(R10="V","1","") | AD10: Tipi Servizi
A11: 1 | B11: 8 | C11: =DATE(Anno,1,8) -> 45665 | D11: =C11 -> 45665 | I11: =IF(C11="","",IF(OR(G11="",H11=""),,IF(H11<G11,MOD(H11-G11,1),H11-G11))) -> 0 | O11: =IF(E11="d","1","")&IF(E11="P","1","")&IF(E11="FL","1","")&IF(E11="IL","1","")&IF(E11="V","1","") | P11: =DATE(Anno,7,8) -> 45846 | Q11: =P11 -> 45846 | V11: =IF(P11="","",IF(OR(T11="",U11=""),,IF(U11<T11,MOD(U11-T11,1),U11-T11))) -> 0 | AB11: =IF(R11="d","1","")&IF(R11="P","1","")&IF(R11="FL","1","")&IF(R11="IL","1","")&IF(R11="V","1","")
A12: 1 | B12: 9 | C12: =DATE(Anno,1,9) -> 45666 | D12: =C12 -> 45666 | I12: =IF(C12="","",IF(OR(G12="",H12=""),,IF(H12<G12,MOD(H12-G12,1),H12-G12))) -> 0 | O12: =IF(E12="d","1","")&IF(E12="P","1","")&IF(E12="FL","1","")&IF(E12="IL","1","")&IF(E12="V","1","") | P12: =DATE(Anno,7,9) -> 45847 | Q12: =P12 -> 45847 | V12: =IF(P12="","",IF(OR(T12="",U12=""),,IF(U12<T12,MOD(U12-T12,1),U12-T12))) -> 0 | AB12: =IF(R12="d","1","")&IF(R12="P","1","")&IF(R12="FL","1","")&IF(R12="IL","1","")&IF(R12="V","1","") | AD12: P | AE12: = presenza
A13: 1 | B13: 10 | C13: =DATE(Anno,1,10) -> 45667 | D13: =C13 -> 45667 | I13: =IF(C13="","",IF(OR(G13="",H13=""),,IF(H13<G13,MOD(H13-G13,1),H13-G13))) -> 0 | O13: =IF(E13="d","1","")&IF(E13="P","1","")&IF(E13="FL","1","")&IF(E13="IL","1","")&IF(E13="V","1","") | P13: =DATE(Anno,7,10) -> 45848 | Q13: =P13 -> 45848 | V13: =IF(P13="","",IF(OR(T13="",U13=""),,IF(U13<T13,MOD(U13-T13,1),U13-T13))) -> 0 | AB13: =IF(R13="d","1","")&IF(R13="P","1","")&IF(R13="FL","1","")&IF(R13="IL","1","")&IF(R13="V","1","") | AD13: C | AE13: = Cong Anno Corrente
A14: 1 | B14: 11 | C14: =DATE(Anno,1,11) -> 45668 | D14: =C14 -> 45668 | I14: =IF(C14="","",IF(OR(G14="",H14=""),,IF(H14<G14,MOD(H14-G14,1),H14-G14))) -> 0 | O14: =IF(E14="d","1","")&IF(E14="P","1","")&IF(E14="FL","1","")&IF(E14="IL","1","")&IF(E14="V","1","") | P14: =DATE(Anno,7,11) -> 45849 | Q14: =P14 -> 45849 | V14: =IF(P14="","",IF(OR(T14="",U14=""),,IF(U14<T14,MOD(U14-T14,1),U14-T14))) -> 0 | AB14: =IF(R14="d","1","")&IF(R14="P","1","")&IF(R14="FL","1","")&IF(R14="IL","1","")&IF(R14="V","1","") | AD14: CAP | AE14: = Congedo Anno Precedente
A15: 1 | B15: 12 | C15: =DATE(Anno,1,12) -> 45669 | D15: =C15 -> 45669 | I15: =IF(C15="","",IF(OR(G15="",H15=""),,IF(H15<G15,MOD(H15-G15,1),H15-G15))) -> 0 | O15: =IF(E15="d","1","")&IF(E15="P","1","")&IF(E15="FL","1","")&IF(E15="IL","1","")&IF(E15="V","1","") | P15: =DATE(Anno,7,12) -> 45850 | Q15: =P15 -> 45850 | V15: =IF(P15="","",IF(OR(T15="",U15=""),,IF(U15<T15,MOD(U15-T15,1),U15-T15))) -> 0 | AB15: =IF(R15="d","1","")&IF(R15="P","1","")&IF(R15="FL","1","")&IF(R15="IL","1","")&IF(R15="V","1","") | AD15: CAP2 | AE15: = Congedo 2 Anni Precedenti
A16: 1 | B16: 13 | C16: =DATE(Anno,1,13) -> 45670 | D16: =C16 -> 45670 | I16: =IF(C16="","",IF(OR(G16="",H16=""),,IF(H16<G16,MOD(H16-G16,1),H16-G16))) -> 0 | O16: =IF(E16="d","1","")&IF(E16="P","1","")&IF(E16="FL","1","")&IF(E16="IL","1","")&IF(E16="V","1","") | P16: =DATE(Anno,7,13) -> 45851 | Q16: =P16 -> 45851 | V16: =IF(P16="","",IF(OR(T16="",U16=""),,IF(U16<T16,MOD(U16-T16,1),U16-T16))) -> 0 | AB16: =IF(R16="d","1","")&IF(R16="P","1","")&IF(R16="FL","1","")&IF(R16="IL","1","")&IF(R16="V","1","") | AD16: RIP | AE16: = Riposo
A17: 1 | B17: 14 | C17: =DATE(Anno,1,14) -> 45671 | D17: =C17 -> 45671 | I17: =IF(C17="","",IF(OR(G17="",H17=""),,IF(H17<G17,MOD(H17-G17,1),H17-G17))) -> 0 | O17: =IF(E17="d","1","")&IF(E17="P","1","")&IF(E17="FL","1","")&IF(E17="IL","1","")&IF(E17="V","1","") | P17: =DATE(Anno,7,14) -> 45852 | Q17: =P17 -> 45852 | V17: =IF(P17="","",IF(OR(T17="",U17=""),,IF(U17<T17,MOD(U17-T17,1),U17-T17))) -> 0 | AB17: =IF(R17="d","1","")&IF(R17="P","1","")&IF(R17="FL","1","")&IF(R17="IL","1","")&IF(R17="V","1","") | AD17: I | AE17: = Intervallo
A18: 1 | B18: 15 | C18: =DATE(Anno,1,15) -> 45672 | D18: =C18 -> 45672 | I18: =IF(C18="","",IF(OR(G18="",H18=""),,IF(H18<G18,MOD(H18-G18,1),H18-G18))) -> 0 | O18: =IF(E18="d","1","")&IF(E18="P","1","")&IF(E18="FL","1","")&IF(E18="IL","1","")&IF(E18="V","1","") | P18: =DATE(Anno,7,15) -> 45853 | Q18: =P18 -> 45853 | V18: =IF(P18="","",IF(OR(T18="",U18=""),,IF(U18<T18,MOD(U18-T18,1),U18-T18))) -> 0 | AB18: =IF(R18="d","1","")&IF(R18="P","1","")&IF(R18="FL","1","")&IF(R18="IL","1","")&IF(R18="V","1","") | AD18: IL | AE18: = Intervallo Lavorato
A19: 1 | B19: 16 | C19: =DATE(Anno,1,16) -> 45673 | D19: =C19 -> 45673 | I19: =IF(C19="","",IF(OR(G19="",H19=""),,IF(H19<G19,MOD(H19-G19,1),H19-G19))) -> 0 | O19: =IF(E19="d","1","")&IF(E19="P","1","")&IF(E19="FL","1","")&IF(E19="IL","1","")&IF(E19="V","1","") | P19: =DATE(Anno,7,16) -> 45854 | Q19: =P19 -> 45854 | V19: =IF(P19="","",IF(OR(T19="",U19=""),,IF(U19<T19,MOD(U19-T19,1),U19-T19))) -> 0 | AB19: =IF(R19="d","1","")&IF(R19="P","1","")&IF(R19="FL","1","")&IF(R19="IL","1","")&IF(R19="V","1","") | AD19: MC | AE19: = Mezzo Congedo Anno Corrente
A20: 1 | B20: 17 | C20: =DATE(Anno,1,17) -> 45674 | D20: =C20 -> 45674 | I20: =IF(C20="","",IF(OR(G20="",H20=""),,IF(H20<G20,MOD(H20-G20,1),H20-G20))) -> 0 | O20: =IF(E20="d","1","")&IF(E20="P","1","")&IF(E20="FL","1","")&IF(E20="IL","1","")&IF(E20="V","1","") | P20: =DATE(Anno,7,17) -> 45855 | Q20: =P20 -> 45855 | V20: =IF(P20="","",IF(OR(T20="",U20=""),,IF(U20<T20,MOD(U20-T20,1),U20-T20))) -> 0 | AB20: =IF(R20="d","1","")&IF(R20="P","1","")&IF(R20="FL","1","")&IF(R20="IL","1","")&IF(R20="V","1","") | AD20: MCAP | AE20: = Mezzo congedo Anno Precedente
A21: 1 | B21: 18 | C21: =DATE(Anno,1,18) -> 45675 | D21: =C21 -> 45675 | I21: =IF(C21="","",IF(OR(G21="",H21=""),,IF(H21<G21,MOD(H21-G21,1),H21-G21))) -> 0 | O21: =IF(E21="d","1","")&IF(E21="P","1","")&IF(E21="FL","1","")&IF(E21="IL","1","")&IF(E21="V","1","") | P21: =DATE(Anno,7,18) -> 45856 | Q21: =P21 -> 45856 | V21: =IF(P21="","",IF(OR(T21="",U21=""),,IF(U21<T21,MOD(U21-T21,1),U21-T21))) -> 0 | AB21: =IF(R21="d","1","")&IF(R21="P","1","")&IF(R21="FL","1","")&IF(R21="IL","1","")&IF(R21="V","1","") | AD21: MCAP2 | AE21: = Mezzo congedo 2 Anni Precedenti
A22: 1 | B22: 19 | C22: =DATE(Anno,1,19) -> 45676 | D22: =C22 -> 45676 | I22: =IF(C22="","",IF(OR(G22="",H22=""),,IF(H22<G22,MOD(H22-G22,1),H22-G22))) -> 0 | O22: =IF(E22="d","1","")&IF(E22="P","1","")&IF(E22="FL","1","")&IF(E22="IL","1","")&IF(E22="V","1","") | P22: =DATE(Anno,7,19) -> 45857 | Q22: =P22 -> 45857 | V22: =IF(P22="","",IF(OR(T22="",U22=""),,IF(U22<T22,MOD(U22-T22,1),U22-T22))) -> 0 | AB22: =IF(R22="d","1","")&IF(R22="P","1","")&IF(R22="FL","1","")&IF(R22="IL","1","")&IF(R22="V","1","") | AD22: FL | AE22: = Festivo Lavorato
A23: 1 | B23: 20 | C23: =DATE(Anno,1,20) -> 45677 | D23: =C23 -> 45677 | I23: =IF(C23="","",IF(OR(G23="",H23=""),,IF(H23<G23,MOD(H23-G23,1),H23-G23))) -> 0 | O23: =IF(E23="d","1","")&IF(E23="P","1","")&IF(E23="FL","1","")&IF(E23="IL","1","")&IF(E23="V","1","") | P23: =DATE(Anno,7,20) -> 45858 | Q23: =P23 -> 45858 | V23: =IF(P23="","",IF(OR(T23="",U23=""),,IF(U23<T23,MOD(U23-T23,1),U23-T23))) -> 0 | AB23: =IF(R23="d","1","")&IF(R23="P","1","")&IF(R23="FL","1","")&IF(R23="IL","1","")&IF(R23="V","1","") | AD23: RF | AE23: = Recupero Festivo
A24: 1 | B24: 21 | C24: =DATE(Anno,1,21) -> 45678 | D24: =C24 -> 45678 | I24: =IF(C24="","",IF(OR(G24="",H24=""),,IF(H24<G24,MOD(H24-G24,1),H24-G24))) -> 0 | O24: =IF(E24="d","1","")&IF(E24="P","1","")&IF(E24="FL","1","")&IF(E24="IL","1","")&IF(E24="V","1","") | P24: =DATE(Anno,7,21) -> 45859 | Q24: =P24 -> 45859 | V24: =IF(P24="","",IF(OR(T24="",U24=""),,IF(U24<T24,MOD(U24-T24,1),U24-T24))) -> 0 | AB24: =IF(R24="d","1","")&IF(R24="P","1","")&IF(R24="FL","1","")&IF(R24="IL","1","")&IF(R24="V","1","") | AD24: F | AE24: = Festivo
A25: 1 | B25: 22 | C25: =DATE(Anno,1,22) -> 45679 | D25: =C25 -> 45679 | I25: =IF(C25="","",IF(OR(G25="",H25=""),,IF(H25<G25,MOD(H25-G25,1),H25-G25))) -> 0 | O25: =IF(E25="d","1","")&IF(E25="P","1","")&IF(E25="FL","1","")&IF(E25="IL","1","")&IF(E25="V","1","") | P25: =DATE(Anno,7,22) -> 45860 | Q25: =P25 -> 45860 | V25: =IF(P25="","",IF(OR(T25="",U25=""),,IF(U25<T25,MOD(U25-T25,1),U25-T25))) -> 0 | AB25: =IF(R25="d","1","")&IF(R25="P","1","")&IF(R25="FL","1","")&IF(R25="IL","1","")&IF(R25="V","1","") | AD25: M | AE25: = Malattia
A26: 1 | B26: 23 | C26: =DATE(Anno,1,23) -> 45680 | D26: =C26 -> 45680 | I26: =IF(C26="","",IF(OR(G26="",H26=""),,IF(H26<G26,MOD(H26-G26,1),H26-G26))) -> 0 | O26: =IF(E26="d","1","")&IF(E26="P","1","")&IF(E26="FL","1","")&IF(E26="IL","1","")&IF(E26="V","1","") | P26: =DATE(Anno,7,23) -> 45861 | Q26: =P26 -> 45861 | V26: =IF(P26="","",IF(OR(T26="",U26=""),,IF(U26<T26,MOD(U26-T26,1),U26-T26))) -> 0 | AB26: =IF(R26="d","1","")&IF(R26="P","1","")&IF(R26="FL","1","")&IF(R26="IL","1","")&IF(R26="V","1","") | AD26: DOR | AE26: = dormita
A27: 1 | B27: 24 | C27: =DATE(Anno,1,24) -> 45681 | D27: =C27 -> 45681 | I27: =IF(C27="","",IF(OR(G27="",H27=""),,IF(H27<G27,MOD(H27-G27,1),H27-G27))) -> 0 | O27: =IF(E27="d","1","")&IF(E27="P","1","")&IF(E27="FL","1","")&IF(E27="IL","1","")&IF(E27="V","1","") | P27: =DATE(Anno,7,24) -> 45862 | Q27: =P27 -> 45862 | V27: =IF(P27="","",IF(OR(T27="",U27=""),,IF(U27<T27,MOD(U27-T27,1),U27-T27))) -> 0 | AB27: =IF(R27="d","1","")&IF(R27="P","1","")&IF(R27="FL","1","")&IF(R27="IL","1","")&IF(R27="V","1","") | AD27: V | AE27: = Visita Medica
A28: 1 | B28: 25 | C28: =DATE(Anno,1,25) -> 45682 | D28: =C28 -> 45682 | I28: =IF(C28="","",IF(OR(G28="",H28=""),,IF(H28<G28,MOD(H28-G28,1),H28-G28))) -> 0 | O28: =IF(E28="d","1","")&IF(E28="P","1","")&IF(E28="FL","1","")&IF(E28="IL","1","")&IF(E28="V","1","") | P28: =DATE(Anno,7,25) -> 45863 | Q28: =P28 -> 45863 | V28: =IF(P28="","",IF(OR(T28="",U28=""),,IF(U28<T28,MOD(U28-T28,1),U28-T28))) -> 0 | AB28: =IF(R28="d","1","")&IF(R28="P","1","")&IF(R28="FL","1","")&IF(R28="IL","1","")&IF(R28="V","1","") | AD28: FS | AE28: = Festività Soppressa
A29: 1 | B29: 26 | C29: =DATE(Anno,1,26) -> 45683 | D29: =C29 -> 45683 | I29: =IF(C29="","",IF(OR(G29="",H29=""),,IF(H29<G29,MOD(H29-G29,1),H29-G29))) -> 0 | O29: =IF(E29="d","1","")&IF(E29="P","1","")&IF(E29="FL","1","")&IF(E29="IL","1","")&IF(E29="V","1","") | P29: =DATE(Anno,7,26) -> 45864 | Q29: =P29 -> 45864 | V29: =IF(P29="","",IF(OR(T29="",U29=""),,IF(U29<T29,MOD(U29-T29,1),U29-T29))) -> 0 | AB29: =IF(R29="d","1","")&IF(R29="P","1","")&IF(R29="FL","1","")&IF(R29="IL","1","")&IF(R29="V","1","") | AD29: PM | AE29: = Permesso
A30: 1 | B30: 27 | C30: =DATE(Anno,1,27) -> 45684 | D30: =C30 -> 45684 | I30: =IF(C30="","",IF(OR(G30="",H30=""),,IF(H30<G30,MOD(H30-G30,1),H30-G30))) -> 0 | O30: =IF(E30="d","1","")&IF(E30="P","1","")&IF(E30="FL","1","")&IF(E30="IL","1","")&IF(E30="V","1","") | P30: =DATE(Anno,7,27) -> 45865 | Q30: =P30 -> 45865 | V30: =IF(P30="","",IF(OR(T30="",U30=""),,IF(U30<T30,MOD(U30-T30,1),U30-T30))) -> 0 | AB30: =IF(R30="d","1","")&IF(R30="P","1","")&IF(R30="FL","1","")&IF(R30="IL","1","")&IF(R30="V","1","") | AD30: S | AE30: = Sciopero
A31: 1 | B31: 28 | C31: =DATE(Anno,1,28) -> 45685 | D31: =C31 -> 45685 | I31: =IF(C31="","",IF(OR(G31="",H31=""),,IF(H31<G31,MOD(H31-G31,1),H31-G31))) -> 0 | O31: =IF(E31="d","1","")&IF(E31="P","1","")&IF(E31="FL","1","")&IF(E31="IL","1","")&IF(E31="V","1","") | P31: =DATE(Anno,7,28) -> 45866 | Q31: =P31 -> 45866 | V31: =IF(P31="","",IF(OR(T31="",U31=""),,IF(U31<T31,MOD(U31-T31,1),U31-T31))) -> 0 | AB31: =IF(R31="d","1","")&IF(R31="P","1","")&IF(R31="FL","1","")&IF(R31="IL","1","")&IF(R31="V","1","") | AD31: Mb | AE31: = Malattia bambino
A32: 1 | B32: 29 | C32: =DATE(Anno,1,29) -> 45686 | D32: =C32 -> 45686 | I32: =IF(C32="","",IF(OR(G32="",H32=""),,IF(H32<G32,MOD(H32-G32,1),H32-G32))) -> 0 | J32: Totale | O32: =IF(E32="d","1","")&IF(E32="P","1","")&IF(E32="FL","1","")&IF(E32="IL","1","")&IF(E32="V","1","") | P32: =DATE(Anno,7,29) -> 45867 | Q32: =P32 -> 45867 | V32: =IF(P32="","",IF(OR(T32="",U32=""),,IF(U32<T32,MOD(U32-T32,1),U32-T32))) -> 0 | W32: Totale | AB32: =IF(R32="d","1","")&IF(R32="P","1","")&IF(R32="FL","1","")&IF(R32="IL","1","")&IF(R32="V","1","") | AD32: Ag | AE32: = Assenza Giustificata
A33: 1 | B33: 30 | C33: =DATE(Anno,1,30) -> 45687 | D33: =C33 -> 45687 | I33: =IF(C33="","",IF(OR(G33="",H33=""),,IF(H33<G33,MOD(H33-G33,1),H33-G33))) -> 0 | O33: =IF(E33="d","1","")&IF(E33="P","1","")&IF(E33="FL","1","")&IF(E33="IL","1","")&IF(E33="V","1","") | P33: =DATE(Anno,7,30) -> 45868 | Q33: =P33 -> 45868 | V33: =IF(P33="","",IF(OR(T33="",U33=""),,IF(U33<T33,MOD(U33-T33,1),U33-T33))) -> 0 | AB33: =IF(R33="d","1","")&IF(R33="P","1","")&IF(R33="FL","1","")&IF(R33="IL","1","")&IF(R33="V","1","") | AD33: PL | AE33: = Permesso L. 104
A34: 1 | B34: 31 | C34: =DATE(Anno,1,31) -> 45688 | D34: =C34 -> 45688 | I34: =IF(C34="","",IF(OR(G34="",H34=""),,IF(H34<G34,MOD(H34-G34,1),H34-G34))) -> 0 | J34: =SUM(I4:I34) -> 0 | K34: =ROUNDDOWN((31*38)/7,0) -> 168 | O34: =IF(E34="d","1","")&IF(E34="P","1","")&IF(E34="FL","1","")&IF(E34="IL","1","")&IF(E34="V","1","") | P34: =DATE(Anno,7,31) -> 45869 | Q34: =P34 -> 45869 | V34: =IF(P34="","",IF(OR(T34="",U34=""),,IF(U34<T34,MOD(U34-T34,1),U34-T34))) -> 0 | W34: =SUM(V4:V34) -> 0 | X34: =ROUNDDOWN((31*38)/7,0) -> 168 | AB34: =IF(R34="d","1","")&IF(R34="P","1","")&IF(R34="FL","1","")&IF(R34="IL","1","")&IF(R34="V","1","")
N35: Ticket totali del mese: | O35: =COUNTIF(O4:O34,"1") -> 0 | AA35: Ticket totali del mese: | AB35: =COUNTIF(AB4:AB34,"1") -> 0
C36: Febbraio | P36: Agosto
C37: DATA | D37: GIOR | E37: Tipo | F37: GIORNATA TURNO | G37: SERVIZIO | I37: Ore Lavoro | J37: Totale | K37: Monte Ore | L37: Straord | M37: SERVIZIO | N37: NOTE | O37: TK | P37: DATA | Q37: GIOR | R37: Tipo | S37: GIORNATA TURNO | T37: SERVIZIO | V37: Ore Lavoro | W37: Totale | X37: Monte Ore | Y37: Straord | Z37: SERVIZIO | AA37: NOTE | AB37: TK | AD37: Totale Ticket | AE37: =O35+O70+O105+O140+O175+O210+AB35+AB70+AB105+AB140+AB175+AB210 -> 0
G38: DALLE | H38: ALLE | T38: DALLE | U38: ALLE
A39: 2 | B39: 1 | C39: =DATE(Anno,2,1) -> 45689 | D39: =C39 -> 45689 | I39: =IF(C39="","",IF(OR(G39="",H39=""),,IF(H39<G39,MOD(H39-G39,1),H39-G39))) -> 0 | O39: =IF(E39="d","1","")&IF(E39="P","1","")&IF(E39="FL","1","")&IF(E39="IL","1","")&IF(E39="V","1","") | P39: =DATE(Anno,8,1) -> 45870 | Q39: =P39 -> 45870 | V39: =IF(P39="","",IF(OR(T39="",U39=""),,IF(U39<T39,MOD(U39-T39,1),U39-T39))) -> 0 | AB39: =IF(R39="d","1","")&IF(R39="P","1","")&IF(R39="FL","1","")&IF(R39="IL","1","")&IF(R39="V","1","")
A40: 2 | B40: 2 | C40: =DATE(Anno,2,2) -> 45690 | D40: =C40 -> 45690 | I40: =IF(C40="","",IF(OR(G40="",H40=""),,IF(H40<G40,MOD(H40-G40,1),H40-G40))) -> 0 | O40: =IF(E40="d","1","")&IF(E40="P","1","")&IF(E40="FL","1","")&IF(E40="IL","1","")&IF(E40="V","1","") | P40: =DATE(Anno,8,2) -> 45871 | Q40: =P40 -> 45871 | V40: =IF(P40="","",IF(OR(T40="",U40=""),,IF(U40<T40,MOD(U40-T40,1),U40-T40))) -> 0 | AB40: =IF(R40="d","1","")&IF(R40="P","1","")&IF(R40="FL","1","")&IF(R40="IL","1","")&IF(R40="V","1","")
A41: 2 | B41: 3 | C41: =DATE(Anno,2,3) -> 45691 | D41: =C41 -> 45691 | I41: =IF(C41="","",IF(OR(G41="",H41=""),,IF(H41<G41,MOD(H41-G41,1),H41-G41))) -> 0 | O41: =IF(E41="d","1","")&IF(E41="P","1","")&IF(E41="FL","1","")&IF(E41="IL","1","")&IF(E41="V","1","") | P41: =DATE(Anno,8,3) -> 45872 | Q41: =P41 -> 45872 | V41: =IF(P41="","",IF(OR(T41="",U41=""),,IF(U41<T41,MOD(U41-T41,1),U41-T41))) -> 0 | AB41: =IF(R41="d","1","")&IF(R41="P","1","")&IF(R41="FL","1","")&IF(R41="IL","1","")&IF(R41="V","1","")
A42: 2 | B42: 4 | C42: =DATE(Anno,2,4) -> 45692 | D42: =C42 -> 45692 | I42: =IF(C42="","",IF(OR(G42="",H42=""),,IF(H42<G42,MOD(H42-G42,1),H42-G42))) -> 0 | O42: =IF(E42="d","1","")&IF(E42="P","1","")&IF(E42="FL","1","")&IF(E42="IL","1","")&IF(E42="V","1","") | P42: =DATE(Anno,8,4) -> 45873 | Q42: =P42 -> 45873 | V42: =IF(P42="","",IF(OR(T42="",U42=""),,IF(U42<T42,MOD(U42-T42,1),U42-T42))) -> 0 | AB42: =IF(R42="d","1","")&IF(R42="P","1","")&IF(R42="FL","1","")&IF(R42="IL","1","")&IF(R42="V","1","")
A43: 2 | B43: 5 | C43: =DATE(Anno,2,5) -> 45693 | D43: =C43 -> 45693 | I43: =IF(C43="","",IF(OR(G43="",H43=""),,IF(H43<G43,MOD(H43-G43,1),H43-G43))) -> 0 | O43: =IF(E43="d","1","")&IF(E43="P","1","")&IF(E43="FL","1","")&IF(E43="IL","1","")&IF(E43="V","1","") | P43: =DATE(Anno,8,5) -> 45874 | Q43: =P43 -> 45874 | V43: =IF(P43="","",IF(OR(T43="",U43=""),,IF(U43<T43,MOD(U43-T43,1),U43-T43))) -> 0 | AB43: =IF(R43="d","1","")&IF(R43="P","1","")&IF(R43="FL","1","")&IF(R43="IL","1","")&IF(R43="V","1","")
A44: 2 | B44: 6 | C44: =DATE(Anno,2,6) -> 45694 | D44: =C44 -> 45694 | I44: =IF(C44="","",IF(OR(G44="",H44=""),,IF(H44<G44,MOD(H44-G44,1),H44-G44))) -> 0 | O44: =IF(E44="d","1","")&IF(E44="P","1","")&IF(E44="FL","1","")&IF(E44="IL","1","")&IF(E44="V","1","") | P44: =DATE(Anno,8,6) -> 45875 | Q44: =P44 -> 45875 | V44: =IF(P44="","",IF(OR(T44="",U44=""),,IF(U44<T44,MOD(U44-T44,1),U44-T44))) -> 0 | AB44: =IF(R44="d","1","")&IF(R44="P","1","")&IF(R44="FL","1","")&IF(R44="IL","1","")&IF(R44="V","1","")
A45: 2 | B45: 7 | C45: =DATE(Anno,2,7) -> 45695 | D45: =C45 -> 45695 | I45: =IF(C45="","",IF(OR(G45="",H45=""),,IF(H45<G45,MOD(H45-G45,1),H45-G45))) -> 0 | O45: =IF(E45="d","1","")&IF(E45="P","1","")&IF(E45="FL","1","")&IF(E45="IL","1","")&IF(E45="V","1","") | P45: =DATE(Anno,8,7) -> 45876 | Q45: =P45 -> 45876 | V45: =IF(P45="","",IF(OR(T45="",U45=""),,IF(U45<T45,MOD(U45-T45,1),U45-T45))) -> 0 | AB45: =IF(R45="d","1","")&IF(R45="P","1","")&IF(R45="FL","1","")&IF(R45="IL","1","")&IF(R45="V","1","")
A46: 2 | B46: 8 | C46: =DATE(Anno,2,8) -> 45696 | D46: =C46 -> 45696 | I46: =IF(C46="","",IF(OR(G46="",H46=""),,IF(H46<G46,MOD(H46-G46,1),H46-G46))) -> 0 | O46: =IF(E46="d","1","")&IF(E46="P","1","")&IF(E46="FL","1","")&IF(E46="IL","1","")&IF(E46="V","1","") | P46: =DATE(Anno,8,8) -> 45877 | Q46: =P46 -> 45877 | V46: =IF(P46="","",IF(OR(T46="",U46=""),,IF(U46<T46,MOD(U46-T46,1),U46-T46))) -> 0 | AB46: =IF(R46="d","1","")&IF(R46="P","1","")&IF(R46="FL","1","")&IF(R46="IL","1","")&IF(R46="V","1","")
A47: 2 | B47: 9 | C47: =DATE(Anno,2,9) -> 45697 | D47: =C47 -> 45697 | I47: =IF(C47="","",IF(OR(G47="",H47=""),,IF(H47<G47,MOD(H47-G47,1),H47-G47))) -> 0 | O47: =IF(E47="d","1","")&IF(E47="P","1","")&IF(E47="FL","1","")&IF(E47="IL","1","")&IF(E47="V","1","") | P47: =DATE(Anno,8,9) -> 45878 | Q47: =P47 -> 45878 | V47: =IF(P47="","",IF(OR(T47="",U47=""),,IF(U47<T47,MOD(U47-T47,1),U47-T47))) -> 0 | AB47: =IF(R47="d","1","")&IF(R47="P","1","")&IF(R47="FL","1","")&IF(R47="IL","1","")&IF(R47="V","1","")
A48: 2 | B48: 10 | C48: =DATE(Anno,2,10) -> 45698 | D48: =C48 -> 45698 | I48: =IF(C48="","",IF(OR(G48="",H48=""),,IF(H48<G48,MOD(H48-G48,1),H48-G48))) -> 0 | O48: =IF(E48="d","1","")&IF(E48="P","1","")&IF(E48="FL","1","")&IF(E48="IL","1","")&IF(E48="V","1","") | P48: =DATE(Anno,8,10) -> 45879 | Q48: =P48 -> 45879 | V48: =IF(P48="","",IF(OR(T48="",U48=""),,IF(U48<T48,MOD(U48-T48,1),U48-T48))) -> 0 | AB48: =IF(R48="d","1","")&IF(R48="P","1","")&IF(R48="FL","1","")&IF(R48="IL","1","")&IF(R48="V","1","")
A49: 2 | B49: 11 | C49: =DATE(Anno,2,11) -> 45699 | D49: =C49 -> 45699 | I49: =IF(C49="","",IF(OR(G49="",H49=""),,IF(H49<G49,MOD(H49-G49,1),H49-G49))) -> 0 | O49: =IF(E49="d","1","")&IF(E49="P","1","")&IF(E49="FL","1","")&IF(E49="IL","1","")&IF(E49="V","1","") | P49: =DATE(Anno,8,11) -> 45880 | Q49: =P49 -> 45880 | V49: =IF(P49="","",IF(OR(T49="",U49=""),,IF(U49<T49,MOD(U49-T49,1),U49-T49))) -> 0 | AB49: =IF(R49="d","1","")&IF(R49="P","1","")&IF(R49="FL","1","")&IF(R49="IL","1","")&IF(R49="V","1","")
A50: 2 | B50: 12 | C50: =DATE(Anno,2,12) -> 45700 | D50: =C50 -> 45700 | I50: =IF(C50="","",IF(OR(G50="",H50=""),,IF(H50<G50,MOD(H50-G50,1),H50-G50))) -> 0 | O50: =IF(E50="d","1","")&IF(E50="P","1","")&IF(E50="FL","1","")&IF(E50="IL","1","")&IF(E50="V","1","") | P50: =DATE(Anno,8,12) -> 45881 | Q50: =P50 -> 45881 | V50: =IF(P50="","",IF(OR(T50="",U50=""),,IF(U50<T50,MOD(U50-T50,1),U50-T50))) -> 0 | AB50: =IF(R50="d","1","")&IF(R50="P","1","")&IF(R50="FL","1","")&IF(R50="IL","1","")&IF(R50="V","1","")
A51: 2 | B51: 13 | C51: =DATE(Anno,2,13) -> 45701 | D51: =C51 -> 45701 | I51: =IF(C51="","",IF(OR(G51="",H51=""),,IF(H51<G51,MOD(H51-G51,1),H51-G51))) -> 0 | O51: =IF(E51="d","1","")&IF(E51="P","1","")&IF(E51="FL","1","")&IF(E51="IL","1","")&IF(E51="V","1","") | P51: =DATE(Anno,8,13) -> 45882 | Q51: =P51 -> 45882 | V51: =IF(P51="","",IF(OR(T51="",U51=""),,IF(U51<T51,MOD(U51-T51,1),U51-T51))) -> 0 | AB51: =IF(R51="d","1","")&IF(R51="P","1","")&IF(R51="FL","1","")&IF(R51="IL","1","")&IF(R51="V","1","")
A52: 2 | B52: 14 | C52: =DATE(Anno,2,14) -> 45702 | D52: =C52 -> 45702 | I52: =IF(C52="","",IF(OR(G52="",H52=""),,IF(H52<G52,MOD(H52-G52,1),H52-G52))) -> 0 | O52: =IF(E52="d","1","")&IF(E52="P","1","")&IF(E52="FL","1","")&IF(E52="IL","1","")&IF(E52="V","1","") | P52: =DATE(Anno,8,14) -> 45883 | Q52: =P52 -> 45883 | V52: =IF(P52="","",IF(OR(T52="",U52=""),,IF(U52<T52,MOD(U52-T52,1),U52-T52))) -> 0 | AB52: =IF(R52="d","1","")&IF(R52="P","1","")&IF(R52="FL","1","")&IF(R52="IL","1","")&IF(R52="V","1","")
A53: 2 | B53: 15 | C53: =DATE(Anno,2,15) -> 45703 | D53: =C53 -> 45703 | I53: =IF(C53="","",IF(OR(G53="",H53=""),,IF(H53<G53,MOD(H53-G53,1),H53-G53))) -> 0 | O53: =IF(E53="d","1","")&IF(E53="P","1","")&IF(E53="FL","1","")&IF(E53="IL","1","")&IF(E53="V","1","") | P53: =DATE(Anno,8,15) -> 45884 | Q53: =P53 -> 45884 | V53: =IF(P53="","",IF(OR(T53="",U53=""),,IF(U53<T53,MOD(U53-T53,1),U53-T53))) -> 0 | AB53: =IF(R53="d","1","")&IF(R53="P","1","")&IF(R53="FL","1","")&IF(R53="IL","1","")&IF(R53="V","1","")
A54: 2 | B54: 16 | C54: =DATE(Anno,2,16) -> 45704 | D54: =C54 -> 45704 | I54: =IF(C54="","",IF(OR(G54="",H54=""),,IF(H54<G54,MOD(H54-G54,1),H54-G54))) -> 0 | O54: =IF(E54="d","1","")&IF(E54="P","1","")&IF(E54="FL","1","")&IF(E54="IL","1","")&IF(E54="V","1","") | P54: =DATE(Anno,8,16) -> 45885 | Q54: =P54 -> 45885 | V54: =IF(P54="","",IF(OR(T54="",U54=""),,IF(U54<T54,MOD(U54-T54,1),U54-T54))) -> 0 | AB54: =IF(R54="d","1","")&IF(R54="P","1","")&IF(R54="FL","1","")&IF(R54="IL","1","")&IF(R54="V","1","")
A55: 2 | B55: 17 | C55: =DATE(Anno,2,17) -> 45705 | D55: =C55 -> 45705 | I55: =IF(C55="","",IF(OR(G55="",H55=""),,IF(H55<G55,MOD(H55-G55,1),H55-G55))) -> 0 | O55: =IF(E55="d","1","")&IF(E55="P","1","")&IF(E55="FL","1","")&IF(E55="IL","1","")&IF(E55="V","1","") | P55: =DATE(Anno,8,17) -> 45886 | Q55: =P55 -> 45886 | V55: =IF(P55="","",IF(OR(T55="",U55=""),,IF(U55<T55,MOD(U55-T55,1),U55-T55))) -> 0 | AB55: =IF(R55="d","1","")&IF(R55="P","1","")&IF(R55="FL","1","")&IF(R55="IL","1","")&IF(R55="V","1","")
A56: 2 | B56: 18 | C56: =DATE(Anno,2,18) -> 45706 | D56: =C56 -> 45706 | I56: =IF(C56="","",IF(OR(G56="",H56=""),,IF(H56<G56,MOD(H56-G56,1),H56-G56))) -> 0 | O56: =IF(E56="d","1","")&IF(E56="P","1","")&IF(E56="FL","1","")&IF(E56="IL","1","")&IF(E56="V","1","") | P56: =DATE(Anno,8,18) -> 45887 | Q56: =P56 -> 45887 | V56: =IF(P56="","",IF(OR(T56="",U56=""),,IF(U56<T56,MOD(U56-T56,1),U56-T56))) -> 0 | AB56: =IF(R56="d","1","")&IF(R56="P","1","")&IF(R56="FL","1","")&IF(R56="IL","1","")&IF(R56="V","1","")
A57: 2 | B57: 19 | C57: =DATE(Anno,2,19) -> 45707 | D57: =C57 -> 45707 | I57: =IF(C57="","",IF(OR(G57="",H57=""),,IF(H57<G57,MOD(H57-G57,1),H57-G57))) -> 0 | O57: =IF(E57="d","1","")&IF(E57="P","1","")&IF(E57="FL","1","")&IF(E57="IL","1","")&IF(E57="V","1","") | P57: =DATE(Anno,8,19) -> 45888 | Q57: =P57 -> 45888 | V57: =IF(P57="","",IF(OR(T57="",U57=""),,IF(U57<T57,MOD(U57-T57,1),U57-T57))) -> 0 | AB57: =IF(R57="d","1","")&IF(R57="P","1","")&IF(R57="FL","1","")&IF(R57="IL","1","")&IF(R57="V","1","")
A58: 2 | B58: 20 | C58: =DATE(Anno,2,20) -> 45708 | D58: =C58 -> 45708 | I58: =IF(C58="","",IF(OR(G58="",H58=""),,IF(H58<G58,MOD(H58-G58,1),H58-G58))) -> 0 | O58: =IF(E58="d","1","")&IF(E58="P","1","")&IF(E58="FL","1","")&IF(E58="IL","1","")&IF(E58="V","1","") | P58: =DATE(Anno,8,20) -> 45889 | Q58: =P58 -> 45889 | V58: =IF(P58="","",IF(OR(T58="",U58=""),,IF(U58<T58,MOD(U58-T58,1),U58-T58))) -> 0 | AB58: =IF(R58="d","1","")&IF(R58="P","1","")&IF(R58="FL","1","")&IF(R58="IL","1","")&IF(R58="V","1","")
A59: 2 | B59: 21 | C59: =DATE(Anno,2,21) -> 45709 | D59: =C59 -> 45709 | I59: =IF(C59="","",IF(OR(G59="",H59=""),,IF(H59<G59,MOD(H59-G59,1),H59-G59))) -> 0 | O59: =IF(E59="d","1","")&IF(E59="P","1","")&IF(E59="FL","1","")&IF(E59="IL","1","")&IF(E59="V","1","") | P59: =DATE(Anno,8,21) -> 45890 | Q59: =P59 -> 45890 | V59: =IF(P59="","",IF(OR(T59="",U59=""),,IF(U59<T59,MOD(U59-T59,1),U59-T59))) -> 0 | AB59: =IF(R59="d","1","")&IF(R59="P","1","")&IF(R59="FL","1","")&IF(R59="IL","1","")&IF(R59="V","1","")
A60: 2 | B60: 22 | C60: =DATE(Anno,2,22) -> 45710 | D60: =C60 -> 45710 | I60: =IF(C60="","",IF(OR(G60="",H60=""),,IF(H60<G60,MOD(H60-G60,1),H60-G60))) -> 0 | O60: =IF(E60="d","1","")&IF(E60="P","1","")&IF(E60="FL","1","")&IF(E60="IL","1","")&IF(E60="V","1","") | P60: =DATE(Anno,8,22) -> 45891 | Q60: =P60 -> 45891 | V60: =IF(P60="","",IF(OR(T60="",U60=""),,IF(U60<T60,MOD(U60-T60,1),U60-T60))) -> 0 | AB60: =IF(R60="d","1","")&IF(R60="P","1","")&IF(R60="FL","1","")&IF(R60="IL","1","")&IF(R60="V","1","")
A61: 2 | B61: 23 | C61: =DATE(Anno,2,23) -> 45711 | D61: =C61 -> 45711 | I61: =IF(C61="","",IF(OR(G61="",H61=""),,IF(H61<G61,MOD(H61-G61,1),H61-G61))) -> 0 | O61: =IF(E61="d","1","")&IF(E61="P","1","")&IF(E61="FL","1","")&IF(E61="IL","1","")&IF(E61="V","1","") | P61: =DATE(Anno,8,23) -> 45892 | Q61: =P61 -> 45892 | V61: =IF(P61="","",IF(OR(T61="",U61=""),,IF(U61<T61,MOD(U61-T61,1),U61-T61))) -> 0 | AB61: =IF(R61="d","1","")&IF(R61="P","1","")&IF(R61="FL","1","")&IF(R61="IL","1","")&IF(R61="V","1","")
A62: 2 | B62: 24 | C62: =DATE(Anno,2,24) -> 45712 | D62: =C62 -> 45712 | I62: =IF(C62="","",IF(OR(G62="",H62=""),,IF(H62<G62,MOD(H62-G62,1),H62-G62))) -> 0 | O62: =IF(E62="d","1","")&IF(E62="P","1","")&IF(E62="FL","1","")&IF(E62="IL","1","")&IF(E62="V","1","") | P62: =DATE(Anno,8,24) -> 45893 | Q62: =P62 -> 45893 | V62: =IF(P62="","",IF(OR(T62="",U62=""),,IF(U62<T62,MOD(U62-T62,1),U62-T62))) -> 0 | AB62: =IF(R62="d","1","")&IF(R62="P","1","")&IF(R62="FL","1","")&IF(R62="IL","1","")&IF(R62="V","1","")
A63: 2 | B63: 25 | C63: =DATE(Anno,2,25) -> 45713 | D63: =C63 -> 45713 | I63: =IF(C63="","",IF(OR(G63="",H63=""),,IF(H63<G63,MOD(H63-G63,1),H63-G63))) -> 0 | O63: =IF(E63="d","1","")&IF(E63="P","1","")&IF(E63="FL","1","")&IF(E63="IL","1","")&IF(E63="V","1","") | P63: =DATE(Anno,8,25) -> 45894 | Q63: =P63 -> 45894 | V63: =IF(P63="","",IF(OR(T63="",U63=""),,IF(U63<T63,MOD(U63-T63,1),U63-T63))) -> 0 | AB63: =IF(R63="d","1","")&IF(R63="P","1","")&IF(R63="FL","1","")&IF(R63="IL","1","")&IF(R63="V","1","")
A64: 2 | B64: 26 | C64: =DATE(Anno,2,26) -> 45714 | D64: =C64 -> 45714 | I64: =IF(C64="","",IF(OR(G64="",H64=""),,IF(H64<G64,MOD(H64-G64,1),H64-G64))) -> 0 | O64: =IF(E64="d","1","")&IF(E64="P","1","")&IF(E64="FL","1","")&IF(E64="IL","1","")&IF(E64="V","1","") | P64: =DATE(Anno,8,26) -> 45895 | Q64: =P64 -> 45895 | V64: =IF(P64="","",IF(OR(T64="",U64=""),,IF(U64<T64,MOD(U64-T64,1),U64-T64))) -> 0 | AB64: =IF(R64="d","1","")&IF(R64="P","1","")&IF(R64="FL","1","")&IF(R64="IL","1","")&IF(R64="V","1","")
A65: 2 | B65: 27 | C65: =DATE(Anno,2,27) -> 45715 | D65: =C65 -> 45715 | I65: =IF(C65="","",IF(OR(G65="",H65=""),,IF(H65<G65,MOD(H65-G65,1),H65-G65))) -> 0 | O65: =IF(E65="d","1","")&IF(E65="P","1","")&IF(E65="FL","1","")&IF(E65="IL","1","")&IF(E65="V","1","") | P65: =DATE(Anno,8,27) -> 45896 | Q65: =P65 -> 45896 | V65: =IF(P65="","",IF(OR(T65="",U65=""),,IF(U65<T65,MOD(U65-T65,1),U65-T65))) -> 0 | AB65: =IF(R65="d","1","")&IF(R65="P","1","")&IF(R65="FL","1","")&IF(R65="IL","1","")&IF(R65="V","1","")
A66: 2 | B66: 28 | C66: =DATE(Anno,2,28) -> 45716 | D66: =C66 -> 45716 | I66: =IF(C66="","",IF(OR(G66="",H66=""),,IF(H66<G66,MOD(H66-G66,1),H66-G66))) -> 0 | K66: 28 gg | O66: =IF(E66="d","1","")&IF(E66="P","1","")&IF(E66="FL","1","")&IF(E66="IL","1","")&IF(E66="V","1","") | P66: =DATE(Anno,8,28) -> 45897 | Q66: =P66 -> 45897 | V66: =IF(P66="","",IF(OR(T66="",U66=""),,IF(U66<T66,MOD(U66-T66,1),U66-T66))) -> 0 | AB66: =IF(R66="d","1","")&IF(R66="P","1","")&IF(R66="FL","1","")&IF(R66="IL","1","")&IF(R66="V","1","")
A67: 2 | B67: 29 | C67: =IF(DAY(DATE(Anno,2,29))=29,DATE(Anno,2,29),"") | D67: =C67 | I67: =IF(C67="","",IF(OR(G67="",H67=""),,IF(H67<G67,MOD(H67-G67,1),H67-G67))) | J67: Totale | K67: =ROUNDDOWN((28*38)/7,0) -> 152 | O67: =IF(E67="d","1","")&IF(E67="P","1","")&IF(E67="FL","1","")&IF(E67="IL","1","")&IF(E67="V","1","") | P67: =DATE(Anno,8,29) -> 45898 | Q67: =P67 -> 45898 | V67: =IF(P67="","",IF(OR(T67="",U67=""),,IF(U67<T67,MOD(U67-T67,1),U67-T67))) -> 0 | W67: Totale | AB67: =IF(R67="d","1","")&IF(R67="P","1","")&IF(R67="FL","1","")&IF(R67="IL","1","")&IF(R67="V","1","")
A68: 2 | B68: 30 | I68: =IF(C68="","",IF(OR(G68="",H68=""),,IF(H68<G68,MOD(H68-G68,1),H68-G68))) | K68: 29 gg | O68: =IF(E68="d","1","")&IF(E68="P","1","")&IF(E68="FL","1","")&IF(E68="IL","1","")&IF(E68="V","1","") | P68: =DATE(Anno,8,30) -> 45899 | Q68: =P68 -> 45899 | V68: =IF(P68="","",IF(OR(T68="",U68=""),,IF(U68<T68,MOD(U68-T68,1),U68-T68))) -> 0 | AB68: =IF(R68="d","1","")&IF(R68="P","1","")&IF(R68="FL","1","")&IF(R68="IL","1","")&IF(R68="V","1","")
A69: 2 | B69: 31 | I69: =IF(C69="","",IF(OR(G69="",H69=""),,IF(H69<G69,MOD(H69-G69,1),H69-G69))) | J69: =SUM(I39:I69) -> 0 | K69: =ROUNDUP((29*38)/7,0) -> 158 | O69: =IF(E69="d","1","")&IF(E69="P","1","")&IF(E69="FL","1","")&IF(E69="IL","1","")&IF(E69="V","1","") | P69: =DATE(Anno,8,31) -> 45900 | Q69: =P69 -> 45900 | V69: =IF(P69="","",IF(OR(T69="",U69=""),,IF(U69<T69,MOD(U69-T69,1),U69-T69))) -> 0 | W69: =SUM(V39:V69) -> 0 | X69: =ROUNDDOWN((31*38)/7,0) -> 168 | AB69: =IF(R69="d","1","")&IF(R69="P","1","")&IF(R69="FL","1","")&IF(R69="IL","1","")&IF(R69="V","1","")
N70: Ticket totali del mese: | O70: =COUNTIF(O39:O69,"1") -> 0 | AA70: Ticket totali del mese: | AB70: =COUNTIF(AB39:AB69,"1") -> 0
C71: Marzo | P71: Settembre
C72: DATA | D72: GIOR | E72: Tipo | F72: GIORNATA TURNO | G72: SERVIZIO | I72: Ore Lavoro | J72: Totale | K72: Monte Ore | L72: Straord | M72: SERVIZIO | N72: NOTE | O72: TK | P72: DATA | Q72: GIOR | R72: Tipo | S72: GIORNATA TURNO | T72: SERVIZIO | V72: Ore Lavoro | W72: Totale | X72: Monte Ore | Y72: Straord | Z72: SERVIZIO | AA72: NOTE | AB72: TK
G73: DALLE | H73: ALLE | T73: DALLE | U73: ALLE
A74: 3 | B74: 1 | C74: =DATE(Anno,3,1) -> 45717 | D74: =C74 -> 45717 | I74: =IF(C74="","",IF(OR(G74="",H74=""),,IF(H74<G74,MOD(H74-G74,1),H74-G74))) -> 0 | O74: =IF(E74="d","1","")&IF(E74="P","1","")&IF(E74="FL","1","")&IF(E74="IL","1","")&IF(E74="V","1","") | P74: =DATE(Anno,9,1) -> 45901 | Q74: =P74 -> 45901 | V74: =IF(P74="","",IF(OR(T74="",U74=""),,IF(U74<T74,MOD(U74-T74,1),U74-T74))) -> 0 | AB74: =IF(R74="d","1","")&IF(R74="P","1","")&IF(R74="FL","1","")&IF(R74="IL","1","")&IF(R74="V","1","")
A75: 3 | B75: 2 | C75: =DATE(Anno,3,2) -> 45718 | D75: =C75 -> 45718 | I75: =IF(C75="","",IF(OR(G75="",H75=""),,IF(H75<G75,MOD(H75-G75,1),H75-G75))) -> 0 | O75: =IF(E75="d","1","")&IF(E75="P","1","")&IF(E75="FL","1","")&IF(E75="IL","1","")&IF(E75="V","1","") | P75: =DATE(Anno,9,2) -> 45902 | Q75: =P75 -> 45902 | V75: =IF(P75="","",IF(OR(T75="",U75=""),,IF(U75<T75,MOD(U75-T75,1),U75-T75))) -> 0 | AB75: =IF(R75="d","1","")&IF(R75="P","1","")&IF(R75="FL","1","")&IF(R75="IL","1","")&IF(R75="V","1","")
A76: 3 | B76: 3 | C76: =DATE(Anno,3,3) -> 45719 | D76: =C76 -> 45719 | I76: =IF(C76="","",IF(OR(G76="",H76=""),,IF(H76<G76,MOD(H76-G76,1),H76-G76))) -> 0 | O76: =IF(E76="d","1","")&IF(E76="P","1","")&IF(E76="FL","1","")&IF(E76="IL","1","")&IF(E76="V","1","") | P76: =DATE(Anno,9,3) -> 45903 | Q76: =P76 -> 45903 | V76: =IF(P76="","",IF(OR(T76="",U76=""),,IF(U76<T76,MOD(U76-T76,1),U76-T76))) -> 0 | AB76: =IF(R76="d","1","")&IF(R76="P","1","")&IF(R76="FL","1","")&IF(R76="IL","1","")&IF(R76="V","1","")
A77: 3 | B77: 4 | C77: =DATE(Anno,3,4) -> 45720 | D77: =C77 -> 45720 | I77: =IF(C77="","",IF(OR(G77="",H77=""),,IF(H77<G77,MOD(H77-G77,1),H77-G77))) -> 0 | O77: =IF(E77="d","1","")&IF(E77="P","1","")&IF(E77="FL","1","")&IF(E77="IL","1","")&IF(E77="V","1","") | P77: =DATE(Anno,9,4) -> 45904 | Q77: =P77 -> 45904 | V77: =IF(P77="","",IF(OR(T77="",U77=""),,IF(U77<T77,MOD(U77-T77,1),U77-T77))) -> 0 | AB77: =IF(R77="d","1","")&IF(R77="P","1","")&IF(R77="FL","1","")&IF(R77="IL","1","")&IF(R77="V","1","")
A78: 3 | B78: 5 | C78: =DATE(Anno,3,5) -> 45721 | D78: =C78 -> 45721 | I78: =IF(C78="","",IF(OR(G78="",H78=""),,IF(H78<G78,MOD(H78-G78,1),H78-G78))) -> 0 | O78: =IF(E78="d","1","")&IF(E78="P","1","")&IF(E78="FL","1","")&IF(E78="IL","1","")&IF(E78="V","1","") | P78: =DATE(Anno,9,5) -> 45905 | Q78: =P78 -> 45905 | V78: =IF(P78="","",IF(OR(T78="",U78=""),,IF(U78<T78,MOD(U78-T78,1),U78-T78))) -> 0 | AB78: =IF(R78="d","1","")&IF(R78="P","1","")&IF(R78="FL","1","")&IF(R78="IL","1","")&IF(R78="V","1","")
A79: 3 | B79: 6 | C79: =DATE(Anno,3,6) -> 45722 | D79: =C79 -> 45722 | I79: =IF(C79="","",IF(OR(G79="",H79=""),,IF(H79<G79,MOD(H79-G79,1),H79-G79))) -> 0 | O79: =IF(E79="d","1","")&IF(E79="P","1","")&IF(E79="FL","1","")&IF(E79="IL","1","")&IF(E79="V","1","") | P79: =DATE(Anno,9,6) -> 45906 | Q79: =P79 -> 45906 | V79: =IF(P79="","",IF(OR(T79="",U79=""),,IF(U79<T79,MOD(U79-T79,1),U79-T79))) -> 0 | AB79: =IF(R79="d","1","")&IF(R79="P","1","")&IF(R79="FL","1","")&IF(R79="IL","1","")&IF(R79="V","1","")
A80: 3 | B80: 7 | C80: =DATE(Anno,3,7) -> 45723 | D80: =C80 -> 45723 | I80: =IF(C80="","",IF(OR(G80="",H80=""),,IF(H80<G80,MOD(H80-G80,1),H80-G80))) -> 0 | O80: =IF(E80="d","1","")&IF(E80="P","1","")&IF(E80="FL","1","")&IF(E80="IL","1","")&IF(E80="V","1","") | P80: =DATE(Anno,9,7) -> 45907 | Q80: =P80 -> 45907 | V80: =IF(P80="","",IF(OR(T80="",U80=""),,IF(U80<T80,MOD(U80-T80,1),U80-T80))) -> 0 | AB80: =IF(R80="d","1","")&IF(R80="P","1","")&IF(R80="FL","1","")&IF(R80="IL","1","")&IF(R80="V","1","")
A81: 3 | B81: 8 | C81: =DATE(Anno,3,8) -> 45724 | D81: =C81 -> 45724 | I81: =IF(C81="","",IF(OR(G81="",H81=""),,IF(H81<G81,MOD(H81-G81,1),H81-G81))) -> 0 | O81: =IF(E81="d","1","")&IF(E81="P","1","")&IF(E81="FL","1","")&IF(E81="IL","1","")&IF(E81="V","1","") | P81: =DATE(Anno,9,8) -> 45908 | Q81: =P81 -> 45908 | V81: =IF(P81="","",IF(OR(T81="",U81=""),,IF(U81<T81,MOD(U81-T81,1),U81-T81))) -> 0 | AB81: =IF(R81="d","1","")&IF(R81="P","1","")&IF(R81="FL","1","")&IF(R81="IL","1","")&IF(R81="V","1","")
A82: 3 | B82: 9 | C82: =DATE(Anno,3,9) -> 45725 | D82: =C82 -> 45725 | I82: =IF(C82="","",IF(OR(G82="",H82=""),,IF(H82<G82,MOD(H82-G82,1),H82-G82))) -> 0 | O82: =IF(E82="d","1","")&IF(E82="P","1","")&IF(E82="FL","1","")&IF(E82="IL","1","")&IF(E82="V","1","") | P82: =DATE(Anno,9,9) -> 45909 | Q82: =P82 -> 45909 | V82: =IF(P82="","",IF(OR(T82="",U82=""),,IF(U82<T82,MOD(U82-T82,1),U82-T82))) -> 0 | AB82: =IF(R82="d","1","")&IF(R82="P","1","")&IF(R82="FL","1","")&IF(R82="IL","1","")&IF(R82="V","1","")
A83: 3 | B83: 10 | C83: =DATE(Anno,3,10) -> 45726 | D83: =C83 -> 45726 | I83: =IF(C83="","",IF(OR(G83="",H83=""),,IF(H83<G83,MOD(H83-G83,1),H83-G83))) -> 0 | O83: =IF(E83="d","1","")&IF(E83="P","1","")&IF(E83="FL","1","")&IF(E83="IL","1","")&IF(E83="V","1","") | P83: =DATE(Anno,9,10) -> 45910 | Q83: =P83 -> 45910 | V83: =IF(P83="","",IF(OR(T83="",U83=""),,IF(U83<T83,MOD(U83-T83,1),U83-T83))) -> 0 | AB83: =IF(R83="d","1","")&IF(R83="P","1","")&IF(R83="FL","1","")&IF(R83="IL","1","")&IF(R83="V","1","")
A84: 3 | B84: 11 | C84: =DATE(Anno,3,11) -> 45727 | D84: =C84 -> 45727 | I84: =IF(C84="","",IF(OR(G84="",H84=""),,IF(H84<G84,MOD(H84-G84,1),H84-G84))) -> 0 | O84: =IF(E84="d","1","")&IF(E84="P","1","")&IF(E84="FL","1","")&IF(E84="IL","1","")&IF(E84="V","1","") | P84: =DATE(Anno,9,11) -> 45911 | Q84: =P84 -> 45911 | V84: =IF(P84="","",IF(OR(T84="",U84=""),,IF(U84<T84,MOD(U84-T84,1),U84-T84))) -> 0 | AB84: =IF(R84="d","1","")&IF(R84="P","1","")&IF(R84="FL","1","")&IF(R84="IL","1","")&IF(R84="V","1","")
A85: 3 | B85: 12 | C85: =DATE(Anno,3,12) -> 45728 | D85: =C85 -> 45728 | I85: =IF(C85="","",IF(OR(G85="",H85=""),,IF(H85<G85,MOD(H85-G85,1),H85-G85))) -> 0 | O85: =IF(E85="d","1","")&IF(E85="P","1","")&IF(E85="FL","1","")&IF(E85="IL","1","")&IF(E85="V","1","") | P85: =DATE(Anno,9,12) -> 45912 | Q85: =P85 -> 45912 | V85: =IF(P85="","",IF(OR(T85="",U85=""),,IF(U85<T85,MOD(U85-T85,1),U85-T85))) -> 0 | AB85: =IF(R85="d","1","")&IF(R85="P","1","")&IF(R85="FL","1","")&IF(R85="IL","1","")&IF(R85="V","1","")
A86: 3 | B86: 13 | C86: =DATE(Anno,3,13) -> 45729 | D86: =C86 -> 45729 | I86: =IF(C86="","",IF(OR(G86="",H86=""),,IF(H86<G86,MOD(H86-G86,1),H86-G86))) -> 0 | O86: =IF(E86="d","1","")&IF(E86="P","1","")&IF(E86="FL","1","")&IF(E86="IL","1","")&IF(E86="V","1","") | P86: =DATE(Anno,9,13) -> 45913 | Q86: =P86 -> 45913 | V86: =IF(P86="","",IF(OR(T86="",U86=""),,IF(U86<T86,MOD(U86-T86,1),U86-T86))) -> 0 | AB86: =IF(R86="d","1","")&IF(R86="P","1","")&IF(R86="FL","1","")&IF(R86="IL","1","")&IF(R86="V","1","")
A87: 3 | B87: 14 | C87: =DATE(Anno,3,14) -> 45730 | D87: =C87 -> 45730 | I87: =IF(C87="","",IF(OR(G87="",H87=""),,IF(H87<G87,MOD(H87-G87,1),H87-G87))) -> 0 | O87: =IF(E87="d","1","")&IF(E87="P","1","")&IF(E87="FL","1","")&IF(E87="IL","1","")&IF(E87="V","1","") | P87: =DATE(Anno,9,14) -> 45914 | Q87: =P87 -> 45914 | V87: =IF(P87="","",IF(OR(T87="",U87=""),,IF(U87<T87,MOD(U87-T87,1),U87-T87))) -> 0 | AB87: =IF(R87="d","1","")&IF(R87="P","1","")&IF(R87="FL","1","")&IF(R87="IL","1","")&IF(R87="V","1","")
A88: 3 | B88: 15 | C88: =DATE(Anno,3,15) -> 45731 | D88: =C88 -> 45731 | I88: =IF(C88="","",IF(OR(G88="",H88=""),,IF(H88<G88,MOD(H88-G88,1),H88-G88))) -> 0 | O88: =IF(E88="d","1","")&IF(E88="P","1","")&IF(E88="FL","1","")&IF(E88="IL","1","")&IF(E88="V","1","") | P88: =DATE(Anno,9,15) -> 45915 | Q88: =P88 -> 45915 | V88: =IF(P88="","",IF(OR(T88="",U88=""),,IF(U88<T88,MOD(U88-T88,1),U88-T88))) -> 0 | AB88: =IF(R88="d","1","")&IF(R88="P","1","")&IF(R88="FL","1","")&IF(R88="IL","1","")&IF(R88="V","1","")
A89: 3 | B89: 16 | C89: =DATE(Anno,3,16) -> 45732 | D89: =C89 -> 45732 | I89: =IF(C89="","",IF(OR(G89="",H89=""),,IF(H89<G89,MOD(H89-G89,1),H89-G89))) -> 0 | O89: =IF(E89="d","1","")&IF(E89="P","1","")&IF(E89="FL","1","")&IF(E89="IL","1","")&IF(E89="V","1","") | P89: =DATE(Anno,9,16) -> 45916 | Q89: =P89 -> 45916 | V89: =IF(P89="","",IF(OR(T89="",U89=""),,IF(U89<T89,MOD(U89-T89,1),U89-T89))) -> 0 | AB89: =IF(R89="d","1","")&IF(R89="P","1","")&IF(R89="FL","1","")&IF(R89="IL","1","")&IF(R89="V","1","")
A90: 3 | B90: 17 | C90: =DATE(Anno,3,17) -> 45733 | D90: =C90 -> 45733 | I90: =IF(C90="","",IF(OR(G90="",H90=""),,IF(H90<G90,MOD(H90-G90,1),H90-G90))) -> 0 | O90: =IF(E90="d","1","")&IF(E90="P","1","")&IF(E90="FL","1","")&IF(E90="IL","1","")&IF(E90="V","1","") | P90: =DATE(Anno,9,17) -> 45917 | Q90: =P90 -> 45917 | V90: =IF(P90="","",IF(OR(T90="",U90=""),,IF(U90<T90,MOD(U90-T90,1),U90-T90))) -> 0 | AB90: =IF(R90="d","1","")&IF(R90="P","1","")&IF(R90="FL","1","")&IF(R90="IL","1","")&IF(R90="V","1","")
A91: 3 | B91: 18 | C91: =DATE(Anno,3,18) -> 45734 | D91: =C91 -> 45734 | I91: =IF(C91="","",IF(OR(G91="",H91=""),,IF(H91<G91,MOD(H91-G91,1),H91-G91))) -> 0 | O91: =IF(E91="d","1","")&IF(E91="P","1","")&IF(E91="FL","1","")&IF(E91="IL","1","")&IF(E91="V","1","") | P91: =DATE(Anno,9,18) -> 45918 | Q91: =P91 -> 45918 | V91: =IF(P91="","",IF(OR(T91="",U91=""),,IF(U91<T91,MOD(U91-T91,1),U91-T91))) -> 0 | AB91: =IF(R91="d","1","")&IF(R91="P","1","")&IF(R91="FL","1","")&IF(R91="IL","1","")&IF(R91="V","1","")
A92: 3 | B92: 19 | C92: =DATE(Anno,3,19) -> 45735 | D92: =C92 -> 45735 | I92: =IF(C92="","",IF(OR(G92="",H92=""),,IF(H92<G92,MOD(H92-G92,1),H92-G92))) -> 0 | O92: =IF(E92="d","1","")&IF(E92="P","1","")&IF(E92="FL","1","")&IF(E92="IL","1","")&IF(E92="V","1","") | P92: =DATE(Anno,9,19) -> 45919 | Q92: =P92 -> 45919 | V92: =IF(P92="","",IF(OR(T92="",U92=""),,IF(U92<T92,MOD(U92-T92,1),U92-T92))) -> 0 | AB92: =IF(R92="d","1","")&IF(R92="P","1","")&IF(R92="FL","1","")&IF(R92="IL","1","")&IF(R92="V","1","")
A93: 3 | B93: 20 | C93: =DATE(Anno,3,20) -> 45736 | D93: =C93 -> 45736 | I93: =IF(C93="","",IF(OR(G93="",H93=""),,IF(H93<G93,MOD(H93-G93,1),H93-G93))) -> 0 | O93: =IF(E93="d","1","")&IF(E93="P","1","")&IF(E93="FL","1","")&IF(E93="IL","1","")&IF(E93="V","1","") | P93: =DATE(Anno,9,20) -> 45920 | Q93: =P93 -> 45920 | V93: =IF(P93="","",IF(OR(T93="",U93=""),,IF(U93<T93,MOD(U93-T93,1),U93-T93))) -> 0 | AB93: =IF(R93="d","1","")&IF(R93="P","1","")&IF(R93="FL","1","")&IF(R93="IL","1","")&IF(R93="V","1","")
A94: 3 | B94: 21 | C94: =DATE(Anno,3,21) -> 45737 | D94: =C94 -> 45737 | I94: =IF(C94="","",IF(OR(G94="",H94=""),,IF(H94<G94,MOD(H94-G94,1),H94-G94))) -> 0 | O94: =IF(E94="d","1","")&IF(E94="P","1","")&IF(E94="FL","1","")&IF(E94="IL","1","")&IF(E94="V","1","") | P94: =DATE(Anno,9,21) -> 45921 | Q94: =P94 -> 45921 | V94: =IF(P94="","",IF(OR(T94="",U94=""),,IF(U94<T94,MOD(U94-T94,1),U94-T94))) -> 0 | AB94: =IF(R94="d","1","")&IF(R94="P","1","")&IF(R94="FL","1","")&IF(R94="IL","1","")&IF(R94="V","1","")
A95: 3 | B95: 22 | C95: =DATE(Anno,3,22) -> 45738 | D95: =C95 -> 45738 | I95: =IF(C95="","",IF(OR(G95="",H95=""),,IF(H95<G95,MOD(H95-G95,1),H95-G95))) -> 0 | O95: =IF(E95="d","1","")&IF(E95="P","1","")&IF(E95="FL","1","")&IF(E95="IL","1","")&IF(E95="V","1","") | P95: =DATE(Anno,9,22) -> 45922 | Q95: =P95 -> 45922 | V95: =IF(P95="","",IF(OR(T95="",U95=""),,IF(U95<T95,MOD(U95-T95,1),U95-T95))) -> 0 | AB95: =IF(R95="d","1","")&IF(R95="P","1","")&IF(R95="FL","1","")&IF(R95="IL","1","")&IF(R95="V","1","")
A96: 3 | B96: 23 | C96: =DATE(Anno,3,23) -> 45739 | D96: =C96 -> 45739 | I96: =IF(C96="","",IF(OR(G96="",H96=""),,IF(H96<G96,MOD(H96-G96,1),H96-G96))) -> 0 | O96: =IF(E96="d","1","")&IF(E96="P","1","")&IF(E96="FL","1","")&IF(E96="IL","1","")&IF(E96="V","1","") | P96: =DATE(Anno,9,23) -> 45923 | Q96: =P96 -> 45923 | V96: =IF(P96="","",IF(OR(T96="",U96=""),,IF(U96<T96,MOD(U96-T96,1),U96-T96))) -> 0 | AB96: =IF(R96="d","1","")&IF(R96="P","1","")&IF(R96="FL","1","")&IF(R96="IL","1","")&IF(R96="V","1","")
A97: 3 | B97: 24 | C97: =DATE(Anno,3,24) -> 45740 | D97: =C97 -> 45740 | I97: =IF(C97="","",IF(OR(G97="",H97=""),,IF(H97<G97,MOD(H97-G97,1),H97-G97))) -> 0 | O97: =IF(E97="d","1","")&IF(E97="P","1","")&IF(E97="FL","1","")&IF(E97="IL","1","")&IF(E97="V","1","") | P97: =DATE(Anno,9,24) -> 45924 | Q97: =P97 -> 45924 | V97: =IF(P97="","",IF(OR(T97="",U97=""),,IF(U97<T97,MOD(U97-T97,1),U97-T97))) -> 0 | AB97: =IF(R97="d","1","")&IF(R97="P","1","")&IF(R97="FL","1","")&IF(R97="IL","1","")&IF(R97="V","1","")
A98: 3 | B98: 25 | C98: =DATE(Anno,3,25) -> 45741 | D98: =C98 -> 45741 | I98: =IF(C98="","",IF(OR(G98="",H98=""),,IF(H98<G98,MOD(H98-G98,1),H98-G98))) -> 0 | O98: =IF(E98="d","1","")&IF(E98="P","1","")&IF(E98="FL","1","")&IF(E98="IL","1","")&IF(E98="V","1","") | P98: =DATE(Anno,9,25) -> 45925 | Q98: =P98 -> 45925 | V98: =IF(P98="","",IF(OR(T98="",U98=""),,IF(U98<T98,MOD(U98-T98,1),U98-T98))) -> 0 | AB98: =IF(R98="d","1","")&IF(R98="P","1","")&IF(R98="FL","1","")&IF(R98="IL","1","")&IF(R98="V","1","")
A99: 3 | B99: 26 | C99: =DATE(Anno,3,26) -> 45742 | D99: =C99 -> 45742 | I99: =IF(C99="","",IF(OR(G99="",H99=""),,IF(H99<G99,MOD(H99-G99,1),H99-G99))) -> 0 | O99: =IF(E99="d","1","")&IF(E99="P","1","")&IF(E99="FL","1","")&IF(E99="IL","1","")&IF(E99="V","1","") | P99: =DATE(Anno,9,26) -> 45926 | Q99: =P99 -> 45926 | V99: =IF(P99="","",IF(OR(T99="",U99=""),,IF(U99<T99,MOD(U99-T99,1),U99-T99))) -> 0 | AB99: =IF(R99="d","1","")&IF(R99="P","1","")&IF(R99="FL","1","")&IF(R99="IL","1","")&IF(R99="V","1","")
A100: 3 | B100: 27 | C100: =DATE(Anno,3,27) -> 45743 | D100: =C100 -> 45743 | I100: =IF(C100="","",IF(OR(G100="",H100=""),,IF(H100<G100,MOD(H100-G100,1),H100-G100))) -> 0 | O100: =IF(E100="d","1","")&IF(E100="P","1","")&IF(E100="FL","1","")&IF(E100="IL","1","")&IF(E100="V","1","") | P100: =DATE(Anno,9,27) -> 45927 | Q100: =P100 -> 45927 | V100: =IF(P100="","",IF(OR(T100="",U100=""),,IF(U100<T100,MOD(U100-T100,1),U100-T100))) -> 0 | AB100: =IF(R100="d","1","")&IF(R100="P","1","")&IF(R100="FL","1","")&IF(R100="IL","1","")&IF(R100="V","1","")
...

Sheet OreSettimana
B2: Calcolo ore settimanali
B3: giornata | C3: ora inizio | D3: ora fine | E3: totale
B4: 1 | E4: =IF(D4<C4,MOD(D4-C4,1),D4-C4) -> 0
B5: 2 | E5: =IF(D5<C5,MOD(D5-C5,1),D5-C5) -> 0
B6: 3 | E6: =IF(D6<C6,MOD(D6-C6,1),D6-C6) -> 0
B7: 4 | E7: =IF(D7<C7,MOD(D7-C7,1),D7-C7) -> 0
B8: 5 | E8: =IF(D8<C8,MOD(D8-C8,1),D8-C8) -> 0
B9: 6 | E9: =IF(D9<C9,MOD(D9-C9,1),D9-C9) -> 0
E10: =SUM(E5:E9) -> 0
